BEGIN:VCALENDAR
VERSION:2.0
PRODID:-//Community Action of Skagit County - ECPv6.10.2//NONSGML v1.0//EN
CALSCALE:GREGORIAN
METHOD:PUBLISH
X-WR-CALNAME:Community Action of Skagit County
X-ORIGINAL-URL:https://www.communityactionskagit.org
X-WR-CALDESC:Events for Community Action of Skagit County
REFRESH-INTERVAL;VALUE=DURATION:PT1H
X-Robots-Tag:noindex
X-PUBLISHED-TTL:PT1H
BEGIN:VTIMEZONE
TZID:America/Los_Angeles
BEGIN:DAYLIGHT
TZOFFSETFROM:-0800
TZOFFSETTO:-0700
TZNAME:PDT
DTSTART:20260308T100000
END:DAYLIGHT
BEGIN:STANDARD
TZOFFSETFROM:-0700
TZOFFSETTO:-0800
TZNAME:PST
DTSTART:20261101T090000
END:STANDARD
END:VTIMEZONE
BEGIN:VEVENT
DTSTART;TZID=America/Los_Angeles:20260415T120000
DTEND;TZID=America/Los_Angeles:20260415T140000
DTSTAMP:20260421T015503
CREATED:20260205T224113Z
LAST-MODIFIED:20260205T224113Z
UID:24664-1776254400-1776261600@www.communityactionskagit.org
SUMMARY:Community Action @ Sedro-Woolley Senior Center Resource Table
DESCRIPTION:Community Action staff will be at Sedro-Woolley Senior Center sharing updated program information and resources.
URL:https://www.communityactionskagit.org/event/community-action-sedro-woolley-senior-center-resource-table/2026-04-15/
END:VEVENT
BEGIN:VEVENT
DTSTART;TZID=America/Los_Angeles:20260415T120000
DTEND;TZID=America/Los_Angeles:20260415T160000
DTSTAMP:20260421T015503
CREATED:20260326T221849Z
LAST-MODIFIED:20260326T221849Z
UID:24979-1776254400-1776268800@www.communityactionskagit.org
SUMMARY:Community Action @ La Conner Swinomish Library Resource Table
DESCRIPTION:Please join Community Action staff at La Conner Swinomish Library. We will have updated program information\, community resources\, and volunteer opportunities.
URL:https://www.communityactionskagit.org/event/community-action-la-conner-swinomish-library-resource-table-2/2026-04-15/
LOCATION:La Conner Swinomish Library\, 520 Morris St.\, La Conner
END:VEVENT
BEGIN:VEVENT
DTSTART;TZID=America/Los_Angeles:20260415T173000
DTEND;TZID=America/Los_Angeles:20260415T193000
DTSTAMP:20260421T015503
CREATED:20260210T231434Z
LAST-MODIFIED:20260210T231818Z
UID:24669-1776274200-1776281400@www.communityactionskagit.org
SUMMARY:Financial Literacy and Renter's Education (FLARE) ~ Spanish
DESCRIPTION:Financial Literacy and Renter’s Education (FLARE) is a free program that gives families the tools\, guidance\, and support they need to take control of their financial future. \nEvery week\, participants gain information on: \n\nBudgeting\nRenter’s Education\nMoney Habitudes & Impulse Buying\nCredit\nDebt Management\nSavings\nFinancial Goals\n\nPre-Registration is required. Contact: Jorge Estefan at (360) 421-9090 or FinancialEducation@CommunityActionSkagit.org
URL:https://www.communityactionskagit.org/event/financial-literacy-and-renters-education-flare-spanish/2026-04-15/
LOCATION:
END:VEVENT
END:VCALENDAR