BEGIN:VCALENDAR
VERSION:2.0
PRODID:-//Community Action of Skagit County - ECPv6.10.2//NONSGML v1.0//EN
CALSCALE:GREGORIAN
METHOD:PUBLISH
X-WR-CALNAME:Community Action of Skagit County
X-ORIGINAL-URL:https://www.communityactionskagit.org
X-WR-CALDESC:Events for Community Action of Skagit County
REFRESH-INTERVAL;VALUE=DURATION:PT1H
X-Robots-Tag:noindex
X-PUBLISHED-TTL:PT1H
BEGIN:VTIMEZONE
TZID:America/Los_Angeles
BEGIN:DAYLIGHT
TZOFFSETFROM:-0800
TZOFFSETTO:-0700
TZNAME:PDT
DTSTART:20260308T100000
END:DAYLIGHT
BEGIN:STANDARD
TZOFFSETFROM:-0700
TZOFFSETTO:-0800
TZNAME:PST
DTSTART:20261101T090000
END:STANDARD
END:VTIMEZONE
BEGIN:VEVENT
DTSTART;TZID=America/Los_Angeles:20260421T120000
DTEND;TZID=America/Los_Angeles:20260421T160000
DTSTAMP:20260421T033340
CREATED:20260312T223206Z
LAST-MODIFIED:20260312T223206Z
UID:24875-1776772800-1776787200@www.communityactionskagit.org
SUMMARY:Community Action @ NW Regional Job Fair
DESCRIPTION:Community Action staff will have a resource table at the NW Regional Job Fair at WorkSource Skagit\, April 26\, 2026\, 12-4pm. \nPlease stop by for information on job openings\, Employment and Financial Education\, along with additional programs and resources.
URL:https://www.communityactionskagit.org/event/community-action-nw-regional-job-fair/
LOCATION:WorkSource Skagit\, 2005 E College Way\, Mount Vernon\, WA\, 98273\, United States
END:VEVENT
END:VCALENDAR