BEGIN:VCALENDAR
VERSION:2.0
PRODID:-//Community Action of Skagit County - ECPv6.10.2//NONSGML v1.0//EN
CALSCALE:GREGORIAN
METHOD:PUBLISH
X-WR-CALNAME:Community Action of Skagit County
X-ORIGINAL-URL:https://www.communityactionskagit.org
X-WR-CALDESC:Events for Community Action of Skagit County
REFRESH-INTERVAL;VALUE=DURATION:PT1H
X-Robots-Tag:noindex
X-PUBLISHED-TTL:PT1H
BEGIN:VTIMEZONE
TZID:America/Los_Angeles
BEGIN:DAYLIGHT
TZOFFSETFROM:-0800
TZOFFSETTO:-0700
TZNAME:PDT
DTSTART:20260308T100000
END:DAYLIGHT
BEGIN:STANDARD
TZOFFSETFROM:-0700
TZOFFSETTO:-0800
TZNAME:PST
DTSTART:20261101T090000
END:STANDARD
END:VTIMEZONE
BEGIN:VEVENT
DTSTART;TZID=America/Los_Angeles:20260108T150000
DTEND;TZID=America/Los_Angeles:20260108T163000
DTSTAMP:20260421T021425
CREATED:20240828T181535Z
LAST-MODIFIED:20251114T002614Z
UID:22479-1767884400-1767889800@www.communityactionskagit.org
SUMMARY:Work Pathways
DESCRIPTION:Every week\, participants gain information on: future planning\, time management\, goal setting\, job hunting\, applications\, resumes\, cover letters\, interviewing tips\, and how to succeed in the workplace. Pre-registration is recommended. \nClasses meet on Thursdays from 3-4:30 p.m. at 160 Cascade Place suite 108. Pre-registration is recommended at Jobs@CommunityActionSkagit.org or (360) 826-0807.
URL:https://www.communityactionskagit.org/event/work-pathways-3-2025-08-19/2026-01-08/
LOCATION:Cascade Landing Classroom\, 160 Cascade Place Suite 108\, Burlington\, WA\, 98223\, United States
CATEGORIES:Adult Education,Burlington,Employment
END:VEVENT
BEGIN:VEVENT
DTSTART;TZID=America/Los_Angeles:20260115T150000
DTEND;TZID=America/Los_Angeles:20260115T163000
DTSTAMP:20260421T021425
CREATED:20240828T181535Z
LAST-MODIFIED:20251114T002614Z
UID:22480-1768489200-1768494600@www.communityactionskagit.org
SUMMARY:Work Pathways
DESCRIPTION:Every week\, participants gain information on: future planning\, time management\, goal setting\, job hunting\, applications\, resumes\, cover letters\, interviewing tips\, and how to succeed in the workplace. Pre-registration is recommended. \nClasses meet on Thursdays from 3-4:30 p.m. at 160 Cascade Place suite 108. Pre-registration is recommended at Jobs@CommunityActionSkagit.org or (360) 826-0807.
URL:https://www.communityactionskagit.org/event/work-pathways-3-2025-08-19/2026-01-15/
LOCATION:Cascade Landing Classroom\, 160 Cascade Place Suite 108\, Burlington\, WA\, 98223\, United States
CATEGORIES:Adult Education,Burlington,Employment
END:VEVENT
BEGIN:VEVENT
DTSTART;VALUE=DATE:20260119
DTEND;VALUE=DATE:20260120
DTSTAMP:20260421T021425
CREATED:20250812T202942Z
LAST-MODIFIED:20251118T224009Z
UID:22601-1768780800-1768867199@www.communityactionskagit.org
SUMMARY:Holiday Closure
DESCRIPTION:All Community Action locations are closed for the holiday.
URL:https://www.communityactionskagit.org/event/holiday-closure/2026-01-19/
LOCATION:WA
CATEGORIES:Anacortes,Burlington,East County,Mount Vernon,Sedro-Woolley
END:VEVENT
BEGIN:VEVENT
DTSTART;TZID=America/Los_Angeles:20260122T150000
DTEND;TZID=America/Los_Angeles:20260122T163000
DTSTAMP:20260421T021425
CREATED:20240828T181535Z
LAST-MODIFIED:20251114T002615Z
UID:22481-1769094000-1769099400@www.communityactionskagit.org
SUMMARY:Work Pathways
DESCRIPTION:Every week\, participants gain information on: future planning\, time management\, goal setting\, job hunting\, applications\, resumes\, cover letters\, interviewing tips\, and how to succeed in the workplace. Pre-registration is recommended. \nClasses meet on Thursdays from 3-4:30 p.m. at 160 Cascade Place suite 108. Pre-registration is recommended at Jobs@CommunityActionSkagit.org or (360) 826-0807.
URL:https://www.communityactionskagit.org/event/work-pathways-3-2025-08-19/2026-01-22/
LOCATION:Cascade Landing Classroom\, 160 Cascade Place Suite 108\, Burlington\, WA\, 98223\, United States
CATEGORIES:Adult Education,Burlington,Employment
END:VEVENT
BEGIN:VEVENT
DTSTART;TZID=America/Los_Angeles:20260129T150000
DTEND;TZID=America/Los_Angeles:20260129T163000
DTSTAMP:20260421T021425
CREATED:20240828T181535Z
LAST-MODIFIED:20251114T002615Z
UID:22482-1769698800-1769704200@www.communityactionskagit.org
SUMMARY:Work Pathways
DESCRIPTION:Every week\, participants gain information on: future planning\, time management\, goal setting\, job hunting\, applications\, resumes\, cover letters\, interviewing tips\, and how to succeed in the workplace. Pre-registration is recommended. \nClasses meet on Thursdays from 3-4:30 p.m. at 160 Cascade Place suite 108. Pre-registration is recommended at Jobs@CommunityActionSkagit.org or (360) 826-0807.
URL:https://www.communityactionskagit.org/event/work-pathways-3-2025-08-19/2026-01-29/
LOCATION:Cascade Landing Classroom\, 160 Cascade Place Suite 108\, Burlington\, WA\, 98223\, United States
CATEGORIES:Adult Education,Burlington,Employment
END:VEVENT
END:VCALENDAR