BEGIN:VCALENDAR
VERSION:2.0
PRODID:-//Community Action of Skagit County - ECPv6.10.2//NONSGML v1.0//EN
CALSCALE:GREGORIAN
METHOD:PUBLISH
X-ORIGINAL-URL:https://www.communityactionskagit.org
X-WR-CALDESC:Events for Community Action of Skagit County
REFRESH-INTERVAL;VALUE=DURATION:PT1H
X-Robots-Tag:noindex
X-PUBLISHED-TTL:PT1H
BEGIN:VTIMEZONE
TZID:America/Los_Angeles
BEGIN:DAYLIGHT
TZOFFSETFROM:-0800
TZOFFSETTO:-0700
TZNAME:PDT
DTSTART:20240310T100000
END:DAYLIGHT
BEGIN:STANDARD
TZOFFSETFROM:-0700
TZOFFSETTO:-0800
TZNAME:PST
DTSTART:20241103T090000
END:STANDARD
END:VTIMEZONE
BEGIN:VEVENT
DTSTART;TZID=America/Los_Angeles:20240403T150000
DTEND;TZID=America/Los_Angeles:20240403T170000
DTSTAMP:20260421T145835
CREATED:20231220T174038Z
LAST-MODIFIED:20240326T162112Z
UID:17547-1712156400-1712163600@www.communityactionskagit.org
SUMMARY:Banking Basics - Financial Class
DESCRIPTION:Learn how to EARN money from your bank! \n\nDiscover how your bank can work for and pay you.\nDifferences and benefits between banks and credit unions.\nNever have an overdraft fee again.\nLearn simple ways to earn more from your account and make smart banking decisions.\n\nFlyer
URL:https://www.communityactionskagit.org/event/banking-basics-financial-class/
LOCATION:Cascade Landing Classroom\, 160 Cascade Place Suite 108\, Burlington\, WA\, 98223\, United States
CATEGORIES:Financial Empowerment
END:VEVENT
BEGIN:VEVENT
DTSTART;TZID=America/Los_Angeles:20240417T150000
DTEND;TZID=America/Los_Angeles:20240417T170000
DTSTAMP:20260421T145835
CREATED:20231220T174331Z
LAST-MODIFIED:20240326T162051Z
UID:17550-1713366000-1713373200@www.communityactionskagit.org
SUMMARY:Smart Money - Financial Class
DESCRIPTION:Learn how to plan your spending to SAVE more. \n\nFine tune your spending to buy what you really want.\nSave more without thinking about it.\nActually achieve your goals.\nLive the life you really want.\n\nFlyer
URL:https://www.communityactionskagit.org/event/smart-money-financial-class/
LOCATION:Cascade Landing Classroom\, 160 Cascade Place Suite 108\, Burlington\, WA\, 98223\, United States
CATEGORIES:Financial Empowerment
END:VEVENT
END:VCALENDAR