BEGIN:VCALENDAR
VERSION:2.0
PRODID:-//Community Action of Skagit County - ECPv6.10.2//NONSGML v1.0//EN
CALSCALE:GREGORIAN
METHOD:PUBLISH
X-WR-CALNAME:Community Action of Skagit County
X-ORIGINAL-URL:https://www.communityactionskagit.org
X-WR-CALDESC:Events for Community Action of Skagit County
REFRESH-INTERVAL;VALUE=DURATION:PT1H
X-Robots-Tag:noindex
X-PUBLISHED-TTL:PT1H
BEGIN:VTIMEZONE
TZID:America/Los_Angeles
BEGIN:DAYLIGHT
TZOFFSETFROM:-0800
TZOFFSETTO:-0700
TZNAME:PDT
DTSTART:20240310T100000
END:DAYLIGHT
BEGIN:STANDARD
TZOFFSETFROM:-0700
TZOFFSETTO:-0800
TZNAME:PST
DTSTART:20241103T090000
END:STANDARD
END:VTIMEZONE
BEGIN:VEVENT
DTSTART;VALUE=DATE:20240101
DTEND;VALUE=DATE:20240102
DTSTAMP:20260420T012432
CREATED:20231219T194049Z
LAST-MODIFIED:20231219T194336Z
UID:16817-1704067200-1704153599@www.communityactionskagit.org
SUMMARY:Agency Closed: New Years Day
DESCRIPTION:
URL:https://www.communityactionskagit.org/event/agency-closed-13/
END:VEVENT
BEGIN:VEVENT
DTSTART;TZID=America/Los_Angeles:20240102T150000
DTEND;TZID=America/Los_Angeles:20240102T163000
DTSTAMP:20260420T012432
CREATED:20231221T175008Z
LAST-MODIFIED:20231221T175008Z
UID:17557-1704207600-1704213000@www.communityactionskagit.org
SUMMARY:Monthly Skagit Volunteer Coordinators Network Meeting
DESCRIPTION:Are you a volunteer manager at a nonprofit\, school or government agency? Or maybe you’re a volunteer who coordinates OTHER volunteers at a church\, service club or community group? You’re invited to the Skagit Volunteer Coordinators Network! \nWhy get involved in the Skagit Volunteer Coordinators Network? \n\nPeer learning: Get tips and build your professional network of diverse volunteer coordinators across sectors — education\, social services\, emergency management\, food security\, environmental\, arts organizations and more. Come with your questions\, ask for help problem-solving\, and share your experience and resources with others!\n2024 Skagit Volunteer Month & Volunteer Fair: Help plan projects that promote volunteerism countywide and celebrate our volunteers. NEW in 2024\, a joint project with Leadership Skagit and the Skagit Community Foundation: Skagit Volunteer & Board Service Fair slated for April.\nFREE volunteer recruitment resources\, via www.SkagitVolunteerCenter.org\, and our monthly volunteer newsletter that reaches over 2\,000 individuals\, churches and businesses.\n\n2024 Schedule & Volunteer Management Topics: These topics were suggested by 2023 network members. To accommodate volunteer coordinators who live in more rural and isolated areas\, meetings in 2024 will alternate between in person and via Zoom. In-person meeting location will alternate between Network members who would like to host their colleagues. \n2024 Meeting Dates & Topics! Please contact SkagitVolunteerCenter@CommunityActionSkagit.org to get on our email list for call details and meeting locations! \n\nJanuary 2 (via Zoom): Volunteer needs assessment and program planning.\nFebruary 6 (in person meeting): Writing TARGETED position descriptions and recruitment messages.\nMarch 5 (via Zoom): Outside-the-box TARGETED volunteer recruitment strategies.\nApril 2 (in person TBD): Turning “traditional” volunteer positions into internships and project-based opportunities.\nSkagit Volunteer Month Proclamation\, 11:45 a.m.-12:45 p.m.\, Tuesday\, April 9\, Skagit County Commissioners Chambers and via Zoom\nSkagit Volunteer & Board Service Fair\, Friday\, April 12 (time and location TBD)\, in collaboration with Leadership Skagit and Skagit Community Foundation\nMay 7 (via Zoom): Effective on-boarding\, orientation and training.\nJune 4 (in person TBD): Working with “spicy” volunteers (and how to say goodbye).\nJuly 2 (via Zoom): Meaningful volunteer recognition.\nOctober 1 (in-person TBD): Volunteer program evaluation.\nNovember 5 (via Zoom): Volunteer management tech and data management.\nDecember 3 (in person TBD): How to delegate\, train and support OTHER volunteer supervisors/coworkers.
URL:https://www.communityactionskagit.org/event/monthly-skagit-volunteer-coordinators-network-meeting/
END:VEVENT
BEGIN:VEVENT
DTSTART;TZID=America/Los_Angeles:20240103T090000
DTEND;TZID=America/Los_Angeles:20240103T100000
DTSTAMP:20260420T012432
CREATED:20231219T193158Z
LAST-MODIFIED:20231219T193258Z
UID:16705-1704272400-1704276000@www.communityactionskagit.org
SUMMARY:Brunch & Learn with Community Action of Skagit County
DESCRIPTION:January Topic: Advocacy  \n\n\n\nDescription: Why is Community Action involved in public policy advocacy\, and why might you want to become involved or increase your involvement? What has changed in the community because of local advocates for housing\, food and solutions to homelessness?  What are some of the priorities emerging from Olympia this session\, and how might we work together to influence them? In this Brunch and Learn\, find out:\n\n\nThe biggest issues in the Washington State Legislature this year\, and how to influence them.\n2024 WSCAP Legislative Priorities\nProtecting LIHEAP funding and how you can help!\nHow people with lived experience are helping decision-makers understand poverty in Skagit County\, and how policy and budget decisions impact peoples’ lives.\nWhy building positive relationships with elected officials over time can be one of our most effective ways of influencing public policy.\nHow you and YOUR organization can get involved\, and even join one of our constituent meetings with representatives in the 10th\, 39th\, and 40th Districts.\n\n\n\n\nAbout the Brunch & Learn:\n\n\n\nJoin us from 9-10 a.m. on the first Wednesday of each month for “Virtual Brunch & Learn with Community Action!” Back in “The Beforetimes”\, Community Action hosted monthly Lunch & Learn sessions for our partners\, volunteers\, staff\, donors and anyone else interested to: 1) Learn about a community need\, 2) what the community is doing to solve it together\, and 3) Community Action’s role. In 2024 we’ll look at hunger and food security\, housing and homelessness\, services for seniors and kids\, and much more! Bring your coffee or tea and a snack to this virtual coffee break\, and join us!
URL:https://www.communityactionskagit.org/event/brunch-learn-with-community-action-of-skagit-county/
LOCATION:Zoom
END:VEVENT
BEGIN:VEVENT
DTSTART;VALUE=DATE:20240115
DTEND;VALUE=DATE:20240116
DTSTAMP:20260420T012432
CREATED:20231219T194138Z
LAST-MODIFIED:20231219T194313Z
UID:16882-1705276800-1705363199@www.communityactionskagit.org
SUMMARY:Agency Closed: MLK Day
DESCRIPTION:
URL:https://www.communityactionskagit.org/event/agency-closed-mlk-day/
END:VEVENT
BEGIN:VEVENT
DTSTART;VALUE=DATE:20240125
DTEND;VALUE=DATE:20240126
DTSTAMP:20260420T012432
CREATED:20240119T230525Z
LAST-MODIFIED:20240119T231724Z
UID:17834-1706140800-1706227199@www.communityactionskagit.org
SUMMARY:Point in Time Count 2024
DESCRIPTION:Point in Time Count takes place every year. Federal funds for housing and services for the unhoused community are tied to the number of individuals that we are able to survey. When local government and agencies talk about the issue\, they cite this number – the more member of the unhoused community that are counted\, the harder it is to ignore the issue of housing\, and the more money we can get to fund services. View our flyer for details on free meals & giveaways in Skagit County. \n  \nPITC Flyer 2024 \nAnacortes Family Center PITC Flyer 2024 \n 
URL:https://www.communityactionskagit.org/event/point-in-time-count-2024/
CATEGORIES:Special Events
END:VEVENT
END:VCALENDAR