BEGIN:VCALENDAR
VERSION:2.0
PRODID:-//Community Action of Skagit County - ECPv6.10.2//NONSGML v1.0//EN
CALSCALE:GREGORIAN
METHOD:PUBLISH
X-ORIGINAL-URL:https://www.communityactionskagit.org
X-WR-CALDESC:Events for Community Action of Skagit County
REFRESH-INTERVAL;VALUE=DURATION:PT1H
X-Robots-Tag:noindex
X-PUBLISHED-TTL:PT1H
BEGIN:VTIMEZONE
TZID:America/Los_Angeles
BEGIN:DAYLIGHT
TZOFFSETFROM:-0800
TZOFFSETTO:-0700
TZNAME:PDT
DTSTART:20240310T100000
END:DAYLIGHT
BEGIN:STANDARD
TZOFFSETFROM:-0700
TZOFFSETTO:-0800
TZNAME:PST
DTSTART:20241103T090000
END:STANDARD
END:VTIMEZONE
BEGIN:VEVENT
DTSTART;TZID=America/Los_Angeles:20240507T150000
DTEND;TZID=America/Los_Angeles:20240507T163000
DTSTAMP:20260419T180636
CREATED:20231221T175008Z
LAST-MODIFIED:20231221T175008Z
UID:17561-1715094000-1715099400@www.communityactionskagit.org
SUMMARY:Monthly Skagit Volunteer Coordinators Network Meeting
DESCRIPTION:Are you a volunteer manager at a nonprofit\, school or government agency? Or maybe you’re a volunteer who coordinates OTHER volunteers at a church\, service club or community group? You’re invited to the Skagit Volunteer Coordinators Network! \nWhy get involved in the Skagit Volunteer Coordinators Network? \n\nPeer learning: Get tips and build your professional network of diverse volunteer coordinators across sectors — education\, social services\, emergency management\, food security\, environmental\, arts organizations and more. Come with your questions\, ask for help problem-solving\, and share your experience and resources with others!\n2024 Skagit Volunteer Month & Volunteer Fair: Help plan projects that promote volunteerism countywide and celebrate our volunteers. NEW in 2024\, a joint project with Leadership Skagit and the Skagit Community Foundation: Skagit Volunteer & Board Service Fair slated for April.\nFREE volunteer recruitment resources\, via www.SkagitVolunteerCenter.org\, and our monthly volunteer newsletter that reaches over 2\,000 individuals\, churches and businesses.\n\n2024 Schedule & Volunteer Management Topics: These topics were suggested by 2023 network members. To accommodate volunteer coordinators who live in more rural and isolated areas\, meetings in 2024 will alternate between in person and via Zoom. In-person meeting location will alternate between Network members who would like to host their colleagues. \n2024 Meeting Dates & Topics! Please contact SkagitVolunteerCenter@CommunityActionSkagit.org to get on our email list for call details and meeting locations! \n\nJanuary 2 (via Zoom): Volunteer needs assessment and program planning.\nFebruary 6 (in person meeting): Writing TARGETED position descriptions and recruitment messages.\nMarch 5 (via Zoom): Outside-the-box TARGETED volunteer recruitment strategies.\nApril 2 (in person TBD): Turning “traditional” volunteer positions into internships and project-based opportunities.\nSkagit Volunteer Month Proclamation\, 11:45 a.m.-12:45 p.m.\, Tuesday\, April 9\, Skagit County Commissioners Chambers and via Zoom\nSkagit Volunteer & Board Service Fair\, Friday\, April 12 (time and location TBD)\, in collaboration with Leadership Skagit and Skagit Community Foundation\nMay 7 (via Zoom): Effective on-boarding\, orientation and training.\nJune 4 (in person TBD): Working with “spicy” volunteers (and how to say goodbye).\nJuly 2 (via Zoom): Meaningful volunteer recognition.\nOctober 1 (in-person TBD): Volunteer program evaluation.\nNovember 5 (via Zoom): Volunteer management tech and data management.\nDecember 3 (in person TBD): How to delegate\, train and support OTHER volunteer supervisors/coworkers.
URL:https://www.communityactionskagit.org/event/monthly-skagit-volunteer-coordinators-network-meeting/2024-05-07/
END:VEVENT
BEGIN:VEVENT
DTSTART;TZID=America/Los_Angeles:20240508T150000
DTEND;TZID=America/Los_Angeles:20240508T170000
DTSTAMP:20260419T180636
CREATED:20231220T174445Z
LAST-MODIFIED:20240326T161114Z
UID:17552-1715180400-1715187600@www.communityactionskagit.org
SUMMARY:Credit Confidence - Financial Class
DESCRIPTION:Learn how to INVEST to get more with less \n\nWhy credit matters.\nLearn how leveraging credit gets you ahead.\nUnderstanding how to build and maintain good credit.\nDiscover strategies to repair bad credit.\n\nFlyer \n 
URL:https://www.communityactionskagit.org/event/credit-confidence-financial-class/
LOCATION:Cascade Landing Classroom\, 160 Cascade Place Suite 108\, Burlington\, WA\, 98223\, United States
CATEGORIES:Financial Empowerment
END:VEVENT
BEGIN:VEVENT
DTSTART;TZID=America/Los_Angeles:20240508T190000
DTEND;TZID=America/Los_Angeles:20240508T210000
DTSTAMP:20260419T180636
CREATED:20240422T202606Z
LAST-MODIFIED:20240423T154541Z
UID:18524-1715194800-1715202000@www.communityactionskagit.org
SUMMARY:Dr. Robert M Gates Fireside Lecture
DESCRIPTION:Skagit Valley College Foundation and Community Action of Skagit County proudly present an exciting\, educational\, and engaging event featuring Dr. Robert M. Gates\, former U.S. Secretary of Defense. Join us for this Fireside Chat and Q&A with Dr. Robert M. Gates\, moderated by Dr. Christopher Villa\, President of Skagit Valley College\, as they discuss veterans\, higher education\, and current affairs. \n\nLearn more here.
URL:https://www.communityactionskagit.org/event/dr-robert-m-gates-fireside-lecture/
LOCATION:McIntyre Hall Performing Arts & Conference Center\, 2501 E College Way\, Mount Vernon\, WA\, 98273
END:VEVENT
BEGIN:VEVENT
DTSTART;TZID=America/Los_Angeles:20240515T150000
DTEND;TZID=America/Los_Angeles:20240515T170000
DTSTAMP:20260419T180636
CREATED:20240229T193705Z
LAST-MODIFIED:20240326T162201Z
UID:18103-1715785200-1715792400@www.communityactionskagit.org
SUMMARY:Conceptos Básicos Bancarios - Clases de Finanzas
DESCRIPTION:Cómo GANAR dinero de tu banco \n\nDescubra cómo su banco puede trabajar para usted y pagarle.\nDiferencias y beneficios entre bancos y cooperativas de crédito.\nNunca más tendrás que pagar un cargo por sobregiro.\nAprenda formas sencillas de ganar más con su cuenta y tomar decisiones bancarias inteligentes.\n\nFolleto
URL:https://www.communityactionskagit.org/event/conceptos-basicos-bancarios-clases-de-finanzas/
LOCATION:Cascade Landing Classroom\, 160 Cascade Place Suite 108\, Burlington\, WA\, 98223\, United States
CATEGORIES:Financial Empowerment
END:VEVENT
BEGIN:VEVENT
DTSTART;VALUE=DATE:20240527
DTEND;VALUE=DATE:20240528
DTSTAMP:20260419T180636
CREATED:20231219T194643Z
LAST-MODIFIED:20231219T194643Z
UID:16887-1716768000-1716854399@www.communityactionskagit.org
SUMMARY:Agency Closure: Memorial Day
DESCRIPTION:
URL:https://www.communityactionskagit.org/event/agency-closure-memorial-day/
END:VEVENT
BEGIN:VEVENT
DTSTART;TZID=America/Los_Angeles:20240529T153000
DTEND;TZID=America/Los_Angeles:20240529T163000
DTSTAMP:20260419T180636
CREATED:20240502T164803Z
LAST-MODIFIED:20240522T155426Z
UID:18593-1716996600-1717000200@www.communityactionskagit.org
SUMMARY:Ribbon Cutting: Community Action’s Anacortes Resource Center
DESCRIPTION:You’re invited! Please join us and the Anacortes Chamber of Commerce to celebrate the opening of Community Action’s Anacortes Resource Center! \nRegister here! RSVP’s are appreciated\, but not required. \nDetails: A short celebration to acknowledge the life-changing work that occurs at the Anacortes Resource Center. \nFor More Information:\n(360) 770-4049\nAnacortes@CommunityActionSkagit.org\nwww.CommunityActionSkagit.org \nAbout Resource Centers: Community Action’s Resource Centers are places for community members to come for immediate assistance with basic needs\, and get help from friendly people to navigate complex systems. Longer-term wrap-around support and services are available for those who need it. Households\, seniors\, veterans and anyone struggling to make ends meet can reach out by phone or in person at four Resource Centers in Anacortes\, Mount Vernon\, East County and Skagit Vets Connect (a Resource Center for veterans and their families in Burlington). The Anacortes Resource Center is a partnership between Community Action of Skagit County\, which is a 501(c)(3) nonprofit organization\, and the City of Anacortes\, and is made possible by Community Action’s generous volunteers\, individual donors\, and other grants and contracts.
URL:https://www.communityactionskagit.org/event/anacortes-resource-center-open-house/
LOCATION:Anacortes Resource Center\, 819 Commercial Avenue Suite C ﻿\, Anacortes\, WA\, 98221\, United States
END:VEVENT
BEGIN:VEVENT
DTSTART;TZID=America/Los_Angeles:20240531T110000
DTEND;TZID=America/Los_Angeles:20240531T140000
DTSTAMP:20260419T180636
CREATED:20240515T220048Z
LAST-MODIFIED:20240515T220048Z
UID:18632-1717153200-1717164000@www.communityactionskagit.org
SUMMARY:Street Outreach Event- Inspire Church- Marblemount
DESCRIPTION:
URL:https://www.communityactionskagit.org/event/street-outreach-event-inspire-church-marblemount/
LOCATION:Inspire Church – North Cascade\, 59850 State Rte 20\, Marblemount\, WA\, 98267\, United States
END:VEVENT
END:VCALENDAR