BEGIN:VCALENDAR
VERSION:2.0
PRODID:-//Community Action of Skagit County - ECPv6.10.2//NONSGML v1.0//EN
CALSCALE:GREGORIAN
METHOD:PUBLISH
X-ORIGINAL-URL:https://www.communityactionskagit.org
X-WR-CALDESC:Events for Community Action of Skagit County
REFRESH-INTERVAL;VALUE=DURATION:PT1H
X-Robots-Tag:noindex
X-PUBLISHED-TTL:PT1H
BEGIN:VTIMEZONE
TZID:America/Los_Angeles
BEGIN:DAYLIGHT
TZOFFSETFROM:-0800
TZOFFSETTO:-0700
TZNAME:PDT
DTSTART:20240310T100000
END:DAYLIGHT
BEGIN:STANDARD
TZOFFSETFROM:-0700
TZOFFSETTO:-0800
TZNAME:PST
DTSTART:20241103T090000
END:STANDARD
END:VTIMEZONE
BEGIN:VEVENT
DTSTART;TZID=America/Los_Angeles:20240604T150000
DTEND;TZID=America/Los_Angeles:20240604T163000
DTSTAMP:20260419T163003
CREATED:20231221T175008Z
LAST-MODIFIED:20231221T175008Z
UID:17562-1717513200-1717518600@www.communityactionskagit.org
SUMMARY:Monthly Skagit Volunteer Coordinators Network Meeting
DESCRIPTION:Are you a volunteer manager at a nonprofit\, school or government agency? Or maybe you’re a volunteer who coordinates OTHER volunteers at a church\, service club or community group? You’re invited to the Skagit Volunteer Coordinators Network! \nWhy get involved in the Skagit Volunteer Coordinators Network? \n\nPeer learning: Get tips and build your professional network of diverse volunteer coordinators across sectors — education\, social services\, emergency management\, food security\, environmental\, arts organizations and more. Come with your questions\, ask for help problem-solving\, and share your experience and resources with others!\n2024 Skagit Volunteer Month & Volunteer Fair: Help plan projects that promote volunteerism countywide and celebrate our volunteers. NEW in 2024\, a joint project with Leadership Skagit and the Skagit Community Foundation: Skagit Volunteer & Board Service Fair slated for April.\nFREE volunteer recruitment resources\, via www.SkagitVolunteerCenter.org\, and our monthly volunteer newsletter that reaches over 2\,000 individuals\, churches and businesses.\n\n2024 Schedule & Volunteer Management Topics: These topics were suggested by 2023 network members. To accommodate volunteer coordinators who live in more rural and isolated areas\, meetings in 2024 will alternate between in person and via Zoom. In-person meeting location will alternate between Network members who would like to host their colleagues. \n2024 Meeting Dates & Topics! Please contact SkagitVolunteerCenter@CommunityActionSkagit.org to get on our email list for call details and meeting locations! \n\nJanuary 2 (via Zoom): Volunteer needs assessment and program planning.\nFebruary 6 (in person meeting): Writing TARGETED position descriptions and recruitment messages.\nMarch 5 (via Zoom): Outside-the-box TARGETED volunteer recruitment strategies.\nApril 2 (in person TBD): Turning “traditional” volunteer positions into internships and project-based opportunities.\nSkagit Volunteer Month Proclamation\, 11:45 a.m.-12:45 p.m.\, Tuesday\, April 9\, Skagit County Commissioners Chambers and via Zoom\nSkagit Volunteer & Board Service Fair\, Friday\, April 12 (time and location TBD)\, in collaboration with Leadership Skagit and Skagit Community Foundation\nMay 7 (via Zoom): Effective on-boarding\, orientation and training.\nJune 4 (in person TBD): Working with “spicy” volunteers (and how to say goodbye).\nJuly 2 (via Zoom): Meaningful volunteer recognition.\nOctober 1 (in-person TBD): Volunteer program evaluation.\nNovember 5 (via Zoom): Volunteer management tech and data management.\nDecember 3 (in person TBD): How to delegate\, train and support OTHER volunteer supervisors/coworkers.
URL:https://www.communityactionskagit.org/event/monthly-skagit-volunteer-coordinators-network-meeting/2024-06-04/
END:VEVENT
BEGIN:VEVENT
DTSTART;VALUE=DATE:20240619
DTEND;VALUE=DATE:20240620
DTSTAMP:20260419T163003
CREATED:20231219T194735Z
LAST-MODIFIED:20231219T194735Z
UID:16889-1718755200-1718841599@www.communityactionskagit.org
SUMMARY:Agency Closure: Juneteenth
DESCRIPTION:
URL:https://www.communityactionskagit.org/event/agency-closure-juneteenth/
END:VEVENT
BEGIN:VEVENT
DTSTART;TZID=America/Los_Angeles:20240626T130000
DTEND;TZID=America/Los_Angeles:20240626T134500
DTSTAMP:20260419T163003
CREATED:20240603T173751Z
LAST-MODIFIED:20240603T173751Z
UID:18707-1719406800-1719409500@www.communityactionskagit.org
SUMMARY:Asset Building Coalition
DESCRIPTION:The Skagit Asset Building Coalition is a collaboration of community organizations and businesses working to ensure our neighbors in Skagit County have the resources to achieve financial stability. The mission of the Asset Building Coalition is to promote pathways to prosperity through financial stability by fostering collaboration throughout Skagit County. For more information contact Sandi Phinney.
URL:https://www.communityactionskagit.org/event/asset-building-coalition/
END:VEVENT
BEGIN:VEVENT
DTSTART;TZID=America/Los_Angeles:20240627T120000
DTEND;TZID=America/Los_Angeles:20240627T170000
DTSTAMP:20260419T163003
CREATED:20240603T175107Z
LAST-MODIFIED:20240604T202244Z
UID:18717-1719489600-1719507600@www.communityactionskagit.org
SUMMARY:Agency Closure
DESCRIPTION:
URL:https://www.communityactionskagit.org/event/agency-closure-3/
END:VEVENT
BEGIN:VEVENT
DTSTART;TZID=America/Los_Angeles:20240627T140000
DTEND;TZID=America/Los_Angeles:20240627T150000
DTSTAMP:20260419T163003
CREATED:20240422T203353Z
LAST-MODIFIED:20240422T203353Z
UID:18531-1719496800-1719500400@www.communityactionskagit.org
SUMMARY:Community Resource Network Meeting
DESCRIPTION:Monthly Virtual Meetings: 4th Thursday of the Month | 2-3 PM\nAbout: The Community Resources Meetings are an opportunity for all community service providers to share information and learn about other resources in the community. For more information contact our Resource Center. \nView our Resource Guides here.
URL:https://www.communityactionskagit.org/event/community-resource-network-meeting-2024-06-27/
LOCATION:Zoom
END:VEVENT
END:VCALENDAR