BEGIN:VCALENDAR
VERSION:2.0
PRODID:-//Community Action of Skagit County - ECPv6.10.2//NONSGML v1.0//EN
CALSCALE:GREGORIAN
METHOD:PUBLISH
X-ORIGINAL-URL:https://www.communityactionskagit.org
X-WR-CALDESC:Events for Community Action of Skagit County
REFRESH-INTERVAL;VALUE=DURATION:PT1H
X-Robots-Tag:noindex
X-PUBLISHED-TTL:PT1H
BEGIN:VTIMEZONE
TZID:America/Los_Angeles
BEGIN:DAYLIGHT
TZOFFSETFROM:-0800
TZOFFSETTO:-0700
TZNAME:PDT
DTSTART:20240310T100000
END:DAYLIGHT
BEGIN:STANDARD
TZOFFSETFROM:-0700
TZOFFSETTO:-0800
TZNAME:PST
DTSTART:20241103T090000
END:STANDARD
END:VTIMEZONE
BEGIN:VEVENT
DTSTART;TZID=America/Los_Angeles:20240815T100000
DTEND;TZID=America/Los_Angeles:20240815T133000
DTSTAMP:20260419T125511
CREATED:20240808T184218Z
LAST-MODIFIED:20240808T184229Z
UID:18825-1723716000-1723728600@www.communityactionskagit.org
SUMMARY:Senior Day in The Park
DESCRIPTION:Come say hello to our amazing staff and learn about how we are serving seniors in the community and how you can help!
URL:https://www.communityactionskagit.org/event/senior-day-in-the-park/
LOCATION:Maiben Park\, 1011 Greenleaf Ave\, Burlington\, 98233
END:VEVENT
BEGIN:VEVENT
DTSTART;TZID=America/Los_Angeles:20240821T170000
DTEND;TZID=America/Los_Angeles:20240821T183000
DTSTAMP:20260419T125511
CREATED:20240807T212805Z
LAST-MODIFIED:20240821T161139Z
UID:18815-1724259600-1724265000@www.communityactionskagit.org
SUMMARY:Sedro-Woolley Housing Forum
DESCRIPTION:
URL:https://www.communityactionskagit.org/event/sedro-woolley-housing-forum/
LOCATION:Sedro-Woolley City Council Chambers\, 325 Metcalf Street\, Sedro-Woolley\, WA\, 98284
END:VEVENT
BEGIN:VEVENT
DTSTART;VALUE=DATE:20240822
DTEND;VALUE=DATE:20240823
DTSTAMP:20260419T125511
CREATED:20240808T183814Z
LAST-MODIFIED:20240808T183814Z
UID:18821-1724284800-1724371199@www.communityactionskagit.org
SUMMARY:Agency Closed
DESCRIPTION:All Community Action locations will be closed- including locations in Anacortes\, Burlington\, Concrete\, Mount Vernon\, and Sedro-Woolley. Locations will open at their regularly scheduled times on Friday August 23.
URL:https://www.communityactionskagit.org/event/agency-closed-14/
END:VEVENT
BEGIN:VEVENT
DTSTART;TZID=America/Los_Angeles:20240824T090000
DTEND;TZID=America/Los_Angeles:20240824T140000
DTSTAMP:20260419T125511
CREATED:20240808T184708Z
LAST-MODIFIED:20240808T184718Z
UID:18829-1724490000-1724508000@www.communityactionskagit.org
SUMMARY:Mount Vernon Farmers Market
DESCRIPTION:Community Action will have a table set up at the farmers market. Stop by our table and learn about ways to get involved\, donate\, and volunteer.
URL:https://www.communityactionskagit.org/event/mount-vernon-farmers-market/
LOCATION:Skagit Riverwalk Park in downtown Mount Vernon\, 735 Mt Vernon Terminal Railroad\, Mount Vernon\, 98273
END:VEVENT
BEGIN:VEVENT
DTSTART;TZID=America/Los_Angeles:20240826T100000
DTEND;TZID=America/Los_Angeles:20240826T123000
DTSTAMP:20260419T125511
CREATED:20240827T185231Z
LAST-MODIFIED:20240828T191954Z
UID:19295-1724666400-1724675400@www.communityactionskagit.org
SUMMARY:GED Fast Track Classes
DESCRIPTION:Enrollment for GED classes is ongoing. You can start any time. Initial Assessment for Placement\, Registration\, and Orientation will take place by appointment. Call (360) 588-5730 or (360) 588-5734 or email Education@CommunityActionSkagit.org to get enrolled or for any GED related questions.
URL:https://www.communityactionskagit.org/event/ged-classes/2024-08-26/
END:VEVENT
BEGIN:VEVENT
DTSTART;TZID=America/Los_Angeles:20240826T151500
DTEND;TZID=America/Los_Angeles:20240826T170000
DTSTAMP:20260419T125511
CREATED:20240827T211429Z
LAST-MODIFIED:20240827T211542Z
UID:19520-1724685300-1724691600@www.communityactionskagit.org
SUMMARY:Life Skills Classes
DESCRIPTION:Every week in this 12 week course\, participants gain information on: problem solving\, effective communication\, adapting to change\, stress management\, goal setting\, budgeting and banking\, credit reports and scores\, and more! Pre-registration is required. For more information or to sign up call (360) 826-0807 or email Jobs@CommunityActionSkagit.org.
URL:https://www.communityactionskagit.org/event/life-skills-classes/
END:VEVENT
BEGIN:VEVENT
DTSTART;TZID=America/Los_Angeles:20240827T100000
DTEND;TZID=America/Los_Angeles:20240827T123000
DTSTAMP:20260419T125511
CREATED:20240827T185231Z
LAST-MODIFIED:20240828T191954Z
UID:19296-1724752800-1724761800@www.communityactionskagit.org
SUMMARY:GED Fast Track Classes
DESCRIPTION:Enrollment for GED classes is ongoing. You can start any time. Initial Assessment for Placement\, Registration\, and Orientation will take place by appointment. Call (360) 588-5730 or (360) 588-5734 or email Education@CommunityActionSkagit.org to get enrolled or for any GED related questions.
URL:https://www.communityactionskagit.org/event/ged-classes/2024-08-27/
END:VEVENT
BEGIN:VEVENT
DTSTART;TZID=America/Los_Angeles:20240827T151500
DTEND;TZID=America/Los_Angeles:20240827T170000
DTSTAMP:20260419T125511
CREATED:20240828T161128Z
LAST-MODIFIED:20240828T181730Z
UID:19606-1724771700-1724778000@www.communityactionskagit.org
SUMMARY:Work Pathways
DESCRIPTION:Every week\, participants gain information on: future planning\, time management\, goal setting\, job hunting\, applications\, resumes\, cover letters\, interviewing tips\, and how to succeed in the workplace. Pre-registration is required. Call (360) 826-0807 or email Jobs@CommunityActionSkagit.org.
URL:https://www.communityactionskagit.org/event/work-pathways-2/2024-08-27/
END:VEVENT
BEGIN:VEVENT
DTSTART;VALUE=DATE:20240828
DTEND;VALUE=DATE:20240829
DTSTAMP:20260419T125511
CREATED:20240828T182819Z
LAST-MODIFIED:20240828T182819Z
UID:20217-1724803200-1724889599@www.communityactionskagit.org
SUMMARY:Agency Closure
DESCRIPTION:
URL:https://www.communityactionskagit.org/event/agency-closure-9/2024-08-28/
END:VEVENT
BEGIN:VEVENT
DTSTART;TZID=America/Los_Angeles:20240828T100000
DTEND;TZID=America/Los_Angeles:20240828T123000
DTSTAMP:20260419T125511
CREATED:20240827T185231Z
LAST-MODIFIED:20240828T191954Z
UID:19297-1724839200-1724848200@www.communityactionskagit.org
SUMMARY:GED Fast Track Classes
DESCRIPTION:Enrollment for GED classes is ongoing. You can start any time. Initial Assessment for Placement\, Registration\, and Orientation will take place by appointment. Call (360) 588-5730 or (360) 588-5734 or email Education@CommunityActionSkagit.org to get enrolled or for any GED related questions.
URL:https://www.communityactionskagit.org/event/ged-classes/2024-08-28/
END:VEVENT
BEGIN:VEVENT
DTSTART;TZID=America/Los_Angeles:20240828T170000
DTEND;TZID=America/Los_Angeles:20240828T200000
DTSTAMP:20260419T125511
CREATED:20240718T171137Z
LAST-MODIFIED:20240718T171137Z
UID:18766-1724864400-1724875200@www.communityactionskagit.org
SUMMARY:Overdose Awareness Event
DESCRIPTION:
URL:https://www.communityactionskagit.org/event/overdose-awareness-event-2/
LOCATION:Skagit County Fairgrounds\, 501 Taylor St.\, Mount Vernon\, WA\, 98273\, United States
END:VEVENT
BEGIN:VEVENT
DTSTART;TZID=America/Los_Angeles:20240829T100000
DTEND;TZID=America/Los_Angeles:20240829T123000
DTSTAMP:20260419T125511
CREATED:20240827T185231Z
LAST-MODIFIED:20240828T191954Z
UID:19298-1724925600-1724934600@www.communityactionskagit.org
SUMMARY:GED Fast Track Classes
DESCRIPTION:Enrollment for GED classes is ongoing. You can start any time. Initial Assessment for Placement\, Registration\, and Orientation will take place by appointment. Call (360) 588-5730 or (360) 588-5734 or email Education@CommunityActionSkagit.org to get enrolled or for any GED related questions.
URL:https://www.communityactionskagit.org/event/ged-classes/2024-08-29/
END:VEVENT
BEGIN:VEVENT
DTSTART;TZID=America/Los_Angeles:20240829T140000
DTEND;TZID=America/Los_Angeles:20240829T150000
DTSTAMP:20260419T125511
CREATED:20240422T203353Z
LAST-MODIFIED:20240808T183425Z
UID:18533-1724940000-1724943600@www.communityactionskagit.org
SUMMARY:Community Resource Network Meeting
DESCRIPTION:Monthly Virtual Meetings: 4th Thursday of the Month | 2-3 PM\nAbout: The Community Resources Meetings are an opportunity for all community service providers to share information and learn about other resources in the community. For more information contact our Resource Center. \nView our Resource Guides here.
URL:https://www.communityactionskagit.org/event/community-resource-network-meeting-2024-08-22/
LOCATION:Zoom
END:VEVENT
END:VCALENDAR