BEGIN:VCALENDAR
VERSION:2.0
PRODID:-//Community Action of Skagit County - ECPv6.10.2//NONSGML v1.0//EN
CALSCALE:GREGORIAN
METHOD:PUBLISH
X-WR-CALNAME:Community Action of Skagit County
X-ORIGINAL-URL:https://www.communityactionskagit.org
X-WR-CALDESC:Events for Community Action of Skagit County
REFRESH-INTERVAL;VALUE=DURATION:PT1H
X-Robots-Tag:noindex
X-PUBLISHED-TTL:PT1H
BEGIN:VTIMEZONE
TZID:America/Los_Angeles
BEGIN:DAYLIGHT
TZOFFSETFROM:-0800
TZOFFSETTO:-0700
TZNAME:PDT
DTSTART:20240310T100000
END:DAYLIGHT
BEGIN:STANDARD
TZOFFSETFROM:-0700
TZOFFSETTO:-0800
TZNAME:PST
DTSTART:20241103T090000
END:STANDARD
END:VTIMEZONE
BEGIN:VEVENT
DTSTART;TZID=America/Los_Angeles:20241001T100000
DTEND;TZID=America/Los_Angeles:20241001T123000
DTSTAMP:20260419T093754
CREATED:20240827T185231Z
LAST-MODIFIED:20240828T192004Z
UID:19317-1727776800-1727785800@www.communityactionskagit.org
SUMMARY:GED Fast Track Classes
DESCRIPTION:Enrollment for GED classes is ongoing. You can start any time. Initial Assessment for Placement\, Registration\, and Orientation will take place by appointment. Call (360) 588-5730 or (360) 588-5734 or email Education@CommunityActionSkagit.org to get enrolled or for any GED related questions.
URL:https://www.communityactionskagit.org/event/ged-classes/2024-10-01/
END:VEVENT
BEGIN:VEVENT
DTSTART;TZID=America/Los_Angeles:20241001T150000
DTEND;TZID=America/Los_Angeles:20241001T163000
DTSTAMP:20260419T093754
CREATED:20231221T175008Z
LAST-MODIFIED:20231221T175008Z
UID:17566-1727794800-1727800200@www.communityactionskagit.org
SUMMARY:Monthly Skagit Volunteer Coordinators Network Meeting
DESCRIPTION:Are you a volunteer manager at a nonprofit\, school or government agency? Or maybe you’re a volunteer who coordinates OTHER volunteers at a church\, service club or community group? You’re invited to the Skagit Volunteer Coordinators Network! \nWhy get involved in the Skagit Volunteer Coordinators Network? \n\nPeer learning: Get tips and build your professional network of diverse volunteer coordinators across sectors — education\, social services\, emergency management\, food security\, environmental\, arts organizations and more. Come with your questions\, ask for help problem-solving\, and share your experience and resources with others!\n2024 Skagit Volunteer Month & Volunteer Fair: Help plan projects that promote volunteerism countywide and celebrate our volunteers. NEW in 2024\, a joint project with Leadership Skagit and the Skagit Community Foundation: Skagit Volunteer & Board Service Fair slated for April.\nFREE volunteer recruitment resources\, via www.SkagitVolunteerCenter.org\, and our monthly volunteer newsletter that reaches over 2\,000 individuals\, churches and businesses.\n\n2024 Schedule & Volunteer Management Topics: These topics were suggested by 2023 network members. To accommodate volunteer coordinators who live in more rural and isolated areas\, meetings in 2024 will alternate between in person and via Zoom. In-person meeting location will alternate between Network members who would like to host their colleagues. \n2024 Meeting Dates & Topics! Please contact SkagitVolunteerCenter@CommunityActionSkagit.org to get on our email list for call details and meeting locations! \n\nJanuary 2 (via Zoom): Volunteer needs assessment and program planning.\nFebruary 6 (in person meeting): Writing TARGETED position descriptions and recruitment messages.\nMarch 5 (via Zoom): Outside-the-box TARGETED volunteer recruitment strategies.\nApril 2 (in person TBD): Turning “traditional” volunteer positions into internships and project-based opportunities.\nSkagit Volunteer Month Proclamation\, 11:45 a.m.-12:45 p.m.\, Tuesday\, April 9\, Skagit County Commissioners Chambers and via Zoom\nSkagit Volunteer & Board Service Fair\, Friday\, April 12 (time and location TBD)\, in collaboration with Leadership Skagit and Skagit Community Foundation\nMay 7 (via Zoom): Effective on-boarding\, orientation and training.\nJune 4 (in person TBD): Working with “spicy” volunteers (and how to say goodbye).\nJuly 2 (via Zoom): Meaningful volunteer recognition.\nOctober 1 (in-person TBD): Volunteer program evaluation.\nNovember 5 (via Zoom): Volunteer management tech and data management.\nDecember 3 (in person TBD): How to delegate\, train and support OTHER volunteer supervisors/coworkers.
URL:https://www.communityactionskagit.org/event/monthly-skagit-volunteer-coordinators-network-meeting/2024-10-01/
END:VEVENT
BEGIN:VEVENT
DTSTART;TZID=America/Los_Angeles:20241001T151500
DTEND;TZID=America/Los_Angeles:20241001T170000
DTSTAMP:20260419T093754
CREATED:20240828T161128Z
LAST-MODIFIED:20240828T181731Z
UID:19611-1727795700-1727802000@www.communityactionskagit.org
SUMMARY:Work Pathways
DESCRIPTION:Every week\, participants gain information on: future planning\, time management\, goal setting\, job hunting\, applications\, resumes\, cover letters\, interviewing tips\, and how to succeed in the workplace. Pre-registration is required. Call (360) 826-0807 or email Jobs@CommunityActionSkagit.org.
URL:https://www.communityactionskagit.org/event/work-pathways-2/2024-10-01/
END:VEVENT
BEGIN:VEVENT
DTSTART;TZID=America/Los_Angeles:20241002T100000
DTEND;TZID=America/Los_Angeles:20241002T123000
DTSTAMP:20260419T093754
CREATED:20240827T185231Z
LAST-MODIFIED:20240828T192004Z
UID:19318-1727863200-1727872200@www.communityactionskagit.org
SUMMARY:GED Fast Track Classes
DESCRIPTION:Enrollment for GED classes is ongoing. You can start any time. Initial Assessment for Placement\, Registration\, and Orientation will take place by appointment. Call (360) 588-5730 or (360) 588-5734 or email Education@CommunityActionSkagit.org to get enrolled or for any GED related questions.
URL:https://www.communityactionskagit.org/event/ged-classes/2024-10-02/
END:VEVENT
BEGIN:VEVENT
DTSTART;TZID=America/Los_Angeles:20241003T100000
DTEND;TZID=America/Los_Angeles:20241003T123000
DTSTAMP:20260419T093754
CREATED:20240827T185231Z
LAST-MODIFIED:20240828T192006Z
UID:19319-1727949600-1727958600@www.communityactionskagit.org
SUMMARY:GED Fast Track Classes
DESCRIPTION:Enrollment for GED classes is ongoing. You can start any time. Initial Assessment for Placement\, Registration\, and Orientation will take place by appointment. Call (360) 588-5730 or (360) 588-5734 or email Education@CommunityActionSkagit.org to get enrolled or for any GED related questions.
URL:https://www.communityactionskagit.org/event/ged-classes/2024-10-03/
END:VEVENT
BEGIN:VEVENT
DTSTART;TZID=America/Los_Angeles:20241007T100000
DTEND;TZID=America/Los_Angeles:20241007T123000
DTSTAMP:20260419T093754
CREATED:20240827T185231Z
LAST-MODIFIED:20240828T192007Z
UID:19320-1728295200-1728304200@www.communityactionskagit.org
SUMMARY:GED Fast Track Classes
DESCRIPTION:Enrollment for GED classes is ongoing. You can start any time. Initial Assessment for Placement\, Registration\, and Orientation will take place by appointment. Call (360) 588-5730 or (360) 588-5734 or email Education@CommunityActionSkagit.org to get enrolled or for any GED related questions.
URL:https://www.communityactionskagit.org/event/ged-classes/2024-10-07/
END:VEVENT
BEGIN:VEVENT
DTSTART;TZID=America/Los_Angeles:20241007T151500
DTEND;TZID=America/Los_Angeles:20241007T170000
DTSTAMP:20260419T093754
CREATED:20240827T211429Z
LAST-MODIFIED:20240827T211919Z
UID:19528-1728314100-1728320400@www.communityactionskagit.org
SUMMARY:Life Skills Classes
DESCRIPTION:Every week in this 12 week course\, participants gain information on: problem solving\, effective communication\, adapting to change\, stress management\, goal setting\, budgeting and banking\, credit reports and scores\, and more! Pre-registration is required. For more information or to sign up call (360) 826-0807 or email Jobs@CommunityActionSkagit.org.
URL:https://www.communityactionskagit.org/event/life-skills-classes-2024-09-09/2024-10-07/
END:VEVENT
BEGIN:VEVENT
DTSTART;TZID=America/Los_Angeles:20241008T100000
DTEND;TZID=America/Los_Angeles:20241008T123000
DTSTAMP:20260419T093754
CREATED:20240827T185231Z
LAST-MODIFIED:20240828T192007Z
UID:19321-1728381600-1728390600@www.communityactionskagit.org
SUMMARY:GED Fast Track Classes
DESCRIPTION:Enrollment for GED classes is ongoing. You can start any time. Initial Assessment for Placement\, Registration\, and Orientation will take place by appointment. Call (360) 588-5730 or (360) 588-5734 or email Education@CommunityActionSkagit.org to get enrolled or for any GED related questions.
URL:https://www.communityactionskagit.org/event/ged-classes/2024-10-08/
END:VEVENT
BEGIN:VEVENT
DTSTART;TZID=America/Los_Angeles:20241008T151500
DTEND;TZID=America/Los_Angeles:20241008T170000
DTSTAMP:20260419T093754
CREATED:20240828T161128Z
LAST-MODIFIED:20240828T181731Z
UID:19612-1728400500-1728406800@www.communityactionskagit.org
SUMMARY:Work Pathways
DESCRIPTION:Every week\, participants gain information on: future planning\, time management\, goal setting\, job hunting\, applications\, resumes\, cover letters\, interviewing tips\, and how to succeed in the workplace. Pre-registration is required. Call (360) 826-0807 or email Jobs@CommunityActionSkagit.org.
URL:https://www.communityactionskagit.org/event/work-pathways-2/2024-10-08/
END:VEVENT
BEGIN:VEVENT
DTSTART;TZID=America/Los_Angeles:20241009T100000
DTEND;TZID=America/Los_Angeles:20241009T123000
DTSTAMP:20260419T093754
CREATED:20240827T185231Z
LAST-MODIFIED:20240828T192007Z
UID:19322-1728468000-1728477000@www.communityactionskagit.org
SUMMARY:GED Fast Track Classes
DESCRIPTION:Enrollment for GED classes is ongoing. You can start any time. Initial Assessment for Placement\, Registration\, and Orientation will take place by appointment. Call (360) 588-5730 or (360) 588-5734 or email Education@CommunityActionSkagit.org to get enrolled or for any GED related questions.
URL:https://www.communityactionskagit.org/event/ged-classes/2024-10-09/
END:VEVENT
BEGIN:VEVENT
DTSTART;TZID=America/Los_Angeles:20241010T100000
DTEND;TZID=America/Los_Angeles:20241010T123000
DTSTAMP:20260419T093754
CREATED:20240827T185231Z
LAST-MODIFIED:20240828T192007Z
UID:19323-1728554400-1728563400@www.communityactionskagit.org
SUMMARY:GED Fast Track Classes
DESCRIPTION:Enrollment for GED classes is ongoing. You can start any time. Initial Assessment for Placement\, Registration\, and Orientation will take place by appointment. Call (360) 588-5730 or (360) 588-5734 or email Education@CommunityActionSkagit.org to get enrolled or for any GED related questions.
URL:https://www.communityactionskagit.org/event/ged-classes/2024-10-10/
END:VEVENT
BEGIN:VEVENT
DTSTART;TZID=America/Los_Angeles:20241014T100000
DTEND;TZID=America/Los_Angeles:20241014T123000
DTSTAMP:20260419T093754
CREATED:20240827T185231Z
LAST-MODIFIED:20240828T192007Z
UID:19324-1728900000-1728909000@www.communityactionskagit.org
SUMMARY:GED Fast Track Classes
DESCRIPTION:Enrollment for GED classes is ongoing. You can start any time. Initial Assessment for Placement\, Registration\, and Orientation will take place by appointment. Call (360) 588-5730 or (360) 588-5734 or email Education@CommunityActionSkagit.org to get enrolled or for any GED related questions.
URL:https://www.communityactionskagit.org/event/ged-classes/2024-10-14/
END:VEVENT
BEGIN:VEVENT
DTSTART;TZID=America/Los_Angeles:20241014T151500
DTEND;TZID=America/Los_Angeles:20241014T170000
DTSTAMP:20260419T093754
CREATED:20240827T211429Z
LAST-MODIFIED:20240827T211919Z
UID:19529-1728918900-1728925200@www.communityactionskagit.org
SUMMARY:Life Skills Classes
DESCRIPTION:Every week in this 12 week course\, participants gain information on: problem solving\, effective communication\, adapting to change\, stress management\, goal setting\, budgeting and banking\, credit reports and scores\, and more! Pre-registration is required. For more information or to sign up call (360) 826-0807 or email Jobs@CommunityActionSkagit.org.
URL:https://www.communityactionskagit.org/event/life-skills-classes-2024-09-09/2024-10-14/
END:VEVENT
BEGIN:VEVENT
DTSTART;TZID=America/Los_Angeles:20241015T100000
DTEND;TZID=America/Los_Angeles:20241015T123000
DTSTAMP:20260419T093754
CREATED:20240827T185231Z
LAST-MODIFIED:20240828T192008Z
UID:19325-1728986400-1728995400@www.communityactionskagit.org
SUMMARY:GED Fast Track Classes
DESCRIPTION:Enrollment for GED classes is ongoing. You can start any time. Initial Assessment for Placement\, Registration\, and Orientation will take place by appointment. Call (360) 588-5730 or (360) 588-5734 or email Education@CommunityActionSkagit.org to get enrolled or for any GED related questions.
URL:https://www.communityactionskagit.org/event/ged-classes/2024-10-15/
END:VEVENT
BEGIN:VEVENT
DTSTART;TZID=America/Los_Angeles:20241015T151500
DTEND;TZID=America/Los_Angeles:20241015T170000
DTSTAMP:20260419T093754
CREATED:20240828T161128Z
LAST-MODIFIED:20240828T181731Z
UID:19613-1729005300-1729011600@www.communityactionskagit.org
SUMMARY:Work Pathways
DESCRIPTION:Every week\, participants gain information on: future planning\, time management\, goal setting\, job hunting\, applications\, resumes\, cover letters\, interviewing tips\, and how to succeed in the workplace. Pre-registration is required. Call (360) 826-0807 or email Jobs@CommunityActionSkagit.org.
URL:https://www.communityactionskagit.org/event/work-pathways-2/2024-10-15/
END:VEVENT
BEGIN:VEVENT
DTSTART;TZID=America/Los_Angeles:20241016T100000
DTEND;TZID=America/Los_Angeles:20241016T123000
DTSTAMP:20260419T093754
CREATED:20240827T185231Z
LAST-MODIFIED:20240828T192008Z
UID:19326-1729072800-1729081800@www.communityactionskagit.org
SUMMARY:GED Fast Track Classes
DESCRIPTION:Enrollment for GED classes is ongoing. You can start any time. Initial Assessment for Placement\, Registration\, and Orientation will take place by appointment. Call (360) 588-5730 or (360) 588-5734 or email Education@CommunityActionSkagit.org to get enrolled or for any GED related questions.
URL:https://www.communityactionskagit.org/event/ged-classes/2024-10-16/
END:VEVENT
BEGIN:VEVENT
DTSTART;TZID=America/Los_Angeles:20241017T100000
DTEND;TZID=America/Los_Angeles:20241017T123000
DTSTAMP:20260419T093754
CREATED:20240827T185231Z
LAST-MODIFIED:20240828T192008Z
UID:19327-1729159200-1729168200@www.communityactionskagit.org
SUMMARY:GED Fast Track Classes
DESCRIPTION:Enrollment for GED classes is ongoing. You can start any time. Initial Assessment for Placement\, Registration\, and Orientation will take place by appointment. Call (360) 588-5730 or (360) 588-5734 or email Education@CommunityActionSkagit.org to get enrolled or for any GED related questions.
URL:https://www.communityactionskagit.org/event/ged-classes/2024-10-17/
END:VEVENT
BEGIN:VEVENT
DTSTART;TZID=America/Los_Angeles:20241018T090000
DTEND;TZID=America/Los_Angeles:20241018T150000
DTSTAMP:20260419T093754
CREATED:20240917T202219Z
LAST-MODIFIED:20240917T203410Z
UID:20904-1729242000-1729263600@www.communityactionskagit.org
SUMMARY:Veteran Stand Down
DESCRIPTION:
URL:https://www.communityactionskagit.org/event/veteran-stand-down-5/2024-10-18/
LOCATION:Skagit County Fairgrounds\, 501 Taylor St.\, Mount Vernon\, WA\, 98273\, United States
END:VEVENT
BEGIN:VEVENT
DTSTART;TZID=America/Los_Angeles:20241019T090000
DTEND;TZID=America/Los_Angeles:20241019T150000
DTSTAMP:20260419T093754
CREATED:20240917T202219Z
LAST-MODIFIED:20240917T203410Z
UID:20908-1729328400-1729350000@www.communityactionskagit.org
SUMMARY:Veteran Stand Down
DESCRIPTION:
URL:https://www.communityactionskagit.org/event/veteran-stand-down-5/2024-10-19/
LOCATION:Skagit County Fairgrounds\, 501 Taylor St.\, Mount Vernon\, WA\, 98273\, United States
END:VEVENT
BEGIN:VEVENT
DTSTART;TZID=America/Los_Angeles:20241021T100000
DTEND;TZID=America/Los_Angeles:20241021T123000
DTSTAMP:20260419T093754
CREATED:20240827T185231Z
LAST-MODIFIED:20240828T192008Z
UID:19328-1729504800-1729513800@www.communityactionskagit.org
SUMMARY:GED Fast Track Classes
DESCRIPTION:Enrollment for GED classes is ongoing. You can start any time. Initial Assessment for Placement\, Registration\, and Orientation will take place by appointment. Call (360) 588-5730 or (360) 588-5734 or email Education@CommunityActionSkagit.org to get enrolled or for any GED related questions.
URL:https://www.communityactionskagit.org/event/ged-classes/2024-10-21/
END:VEVENT
BEGIN:VEVENT
DTSTART;TZID=America/Los_Angeles:20241021T151500
DTEND;TZID=America/Los_Angeles:20241021T170000
DTSTAMP:20260419T093754
CREATED:20240827T211429Z
LAST-MODIFIED:20240827T211919Z
UID:19530-1729523700-1729530000@www.communityactionskagit.org
SUMMARY:Life Skills Classes
DESCRIPTION:Every week in this 12 week course\, participants gain information on: problem solving\, effective communication\, adapting to change\, stress management\, goal setting\, budgeting and banking\, credit reports and scores\, and more! Pre-registration is required. For more information or to sign up call (360) 826-0807 or email Jobs@CommunityActionSkagit.org.
URL:https://www.communityactionskagit.org/event/life-skills-classes-2024-09-09/2024-10-21/
END:VEVENT
BEGIN:VEVENT
DTSTART;TZID=America/Los_Angeles:20241022T100000
DTEND;TZID=America/Los_Angeles:20241022T123000
DTSTAMP:20260419T093754
CREATED:20240827T185231Z
LAST-MODIFIED:20240828T192010Z
UID:19329-1729591200-1729600200@www.communityactionskagit.org
SUMMARY:GED Fast Track Classes
DESCRIPTION:Enrollment for GED classes is ongoing. You can start any time. Initial Assessment for Placement\, Registration\, and Orientation will take place by appointment. Call (360) 588-5730 or (360) 588-5734 or email Education@CommunityActionSkagit.org to get enrolled or for any GED related questions.
URL:https://www.communityactionskagit.org/event/ged-classes/2024-10-22/
END:VEVENT
BEGIN:VEVENT
DTSTART;TZID=America/Los_Angeles:20241022T151500
DTEND;TZID=America/Los_Angeles:20241022T170000
DTSTAMP:20260419T093754
CREATED:20240828T161128Z
LAST-MODIFIED:20240828T181732Z
UID:19614-1729610100-1729616400@www.communityactionskagit.org
SUMMARY:Work Pathways
DESCRIPTION:Every week\, participants gain information on: future planning\, time management\, goal setting\, job hunting\, applications\, resumes\, cover letters\, interviewing tips\, and how to succeed in the workplace. Pre-registration is required. Call (360) 826-0807 or email Jobs@CommunityActionSkagit.org.
URL:https://www.communityactionskagit.org/event/work-pathways-2/2024-10-22/
END:VEVENT
BEGIN:VEVENT
DTSTART;TZID=America/Los_Angeles:20241023T100000
DTEND;TZID=America/Los_Angeles:20241023T123000
DTSTAMP:20260419T093754
CREATED:20240827T185231Z
LAST-MODIFIED:20240828T192011Z
UID:19330-1729677600-1729686600@www.communityactionskagit.org
SUMMARY:GED Fast Track Classes
DESCRIPTION:Enrollment for GED classes is ongoing. You can start any time. Initial Assessment for Placement\, Registration\, and Orientation will take place by appointment. Call (360) 588-5730 or (360) 588-5734 or email Education@CommunityActionSkagit.org to get enrolled or for any GED related questions.
URL:https://www.communityactionskagit.org/event/ged-classes/2024-10-23/
END:VEVENT
BEGIN:VEVENT
DTSTART;TZID=America/Los_Angeles:20241023T130000
DTEND;TZID=America/Los_Angeles:20241023T134500
DTSTAMP:20260419T093754
CREATED:20240603T173751Z
LAST-MODIFIED:20240603T173751Z
UID:18711-1729688400-1729691100@www.communityactionskagit.org
SUMMARY:Asset Building Coalition
DESCRIPTION:The Skagit Asset Building Coalition is a collaboration of community organizations and businesses working to ensure our neighbors in Skagit County have the resources to achieve financial stability. The mission of the Asset Building Coalition is to promote pathways to prosperity through financial stability by fostering collaboration throughout Skagit County. For more information contact Sandi Phinney.
URL:https://www.communityactionskagit.org/event/asset-building-coalition/2024-10-23/
END:VEVENT
BEGIN:VEVENT
DTSTART;TZID=America/Los_Angeles:20241024T100000
DTEND;TZID=America/Los_Angeles:20241024T123000
DTSTAMP:20260419T093754
CREATED:20240827T185231Z
LAST-MODIFIED:20240828T192011Z
UID:19331-1729764000-1729773000@www.communityactionskagit.org
SUMMARY:GED Fast Track Classes
DESCRIPTION:Enrollment for GED classes is ongoing. You can start any time. Initial Assessment for Placement\, Registration\, and Orientation will take place by appointment. Call (360) 588-5730 or (360) 588-5734 or email Education@CommunityActionSkagit.org to get enrolled or for any GED related questions.
URL:https://www.communityactionskagit.org/event/ged-classes/2024-10-24/
END:VEVENT
BEGIN:VEVENT
DTSTART;TZID=America/Los_Angeles:20241024T140000
DTEND;TZID=America/Los_Angeles:20241024T150000
DTSTAMP:20260419T093754
CREATED:20240422T203353Z
LAST-MODIFIED:20240422T203353Z
UID:18535-1729778400-1729782000@www.communityactionskagit.org
SUMMARY:Community Resource Network Meeting
DESCRIPTION:Monthly Virtual Meetings: 4th Thursday of the Month | 2-3 PM\nAbout: The Community Resources Meetings are an opportunity for all community service providers to share information and learn about other resources in the community. For more information contact our Resource Center. \nView our Resource Guides here.
URL:https://www.communityactionskagit.org/event/community-resource-network-meeting-2024-10-24/
LOCATION:Zoom
END:VEVENT
BEGIN:VEVENT
DTSTART;TZID=America/Los_Angeles:20241028T100000
DTEND;TZID=America/Los_Angeles:20241028T123000
DTSTAMP:20260419T093754
CREATED:20240827T185231Z
LAST-MODIFIED:20240828T192011Z
UID:19332-1730109600-1730118600@www.communityactionskagit.org
SUMMARY:GED Fast Track Classes
DESCRIPTION:Enrollment for GED classes is ongoing. You can start any time. Initial Assessment for Placement\, Registration\, and Orientation will take place by appointment. Call (360) 588-5730 or (360) 588-5734 or email Education@CommunityActionSkagit.org to get enrolled or for any GED related questions.
URL:https://www.communityactionskagit.org/event/ged-classes/2024-10-28/
END:VEVENT
BEGIN:VEVENT
DTSTART;TZID=America/Los_Angeles:20241028T151500
DTEND;TZID=America/Los_Angeles:20241028T170000
DTSTAMP:20260419T093754
CREATED:20240827T211429Z
LAST-MODIFIED:20240827T211919Z
UID:19531-1730128500-1730134800@www.communityactionskagit.org
SUMMARY:Life Skills Classes
DESCRIPTION:Every week in this 12 week course\, participants gain information on: problem solving\, effective communication\, adapting to change\, stress management\, goal setting\, budgeting and banking\, credit reports and scores\, and more! Pre-registration is required. For more information or to sign up call (360) 826-0807 or email Jobs@CommunityActionSkagit.org.
URL:https://www.communityactionskagit.org/event/life-skills-classes-2024-09-09/2024-10-28/
END:VEVENT
BEGIN:VEVENT
DTSTART;TZID=America/Los_Angeles:20241029T100000
DTEND;TZID=America/Los_Angeles:20241029T123000
DTSTAMP:20260419T093754
CREATED:20240827T185231Z
LAST-MODIFIED:20240828T192011Z
UID:19333-1730196000-1730205000@www.communityactionskagit.org
SUMMARY:GED Fast Track Classes
DESCRIPTION:Enrollment for GED classes is ongoing. You can start any time. Initial Assessment for Placement\, Registration\, and Orientation will take place by appointment. Call (360) 588-5730 or (360) 588-5734 or email Education@CommunityActionSkagit.org to get enrolled or for any GED related questions.
URL:https://www.communityactionskagit.org/event/ged-classes/2024-10-29/
END:VEVENT
END:VCALENDAR