BEGIN:VCALENDAR
VERSION:2.0
PRODID:-//Community Action of Skagit County - ECPv6.10.2//NONSGML v1.0//EN
CALSCALE:GREGORIAN
METHOD:PUBLISH
X-ORIGINAL-URL:https://www.communityactionskagit.org
X-WR-CALDESC:Events for Community Action of Skagit County
REFRESH-INTERVAL;VALUE=DURATION:PT1H
X-Robots-Tag:noindex
X-PUBLISHED-TTL:PT1H
BEGIN:VTIMEZONE
TZID:America/Los_Angeles
BEGIN:DAYLIGHT
TZOFFSETFROM:-0800
TZOFFSETTO:-0700
TZNAME:PDT
DTSTART:20240310T100000
END:DAYLIGHT
BEGIN:STANDARD
TZOFFSETFROM:-0700
TZOFFSETTO:-0800
TZNAME:PST
DTSTART:20241103T090000
END:STANDARD
END:VTIMEZONE
BEGIN:VEVENT
DTSTART;TZID=America/Los_Angeles:20241202T100000
DTEND;TZID=America/Los_Angeles:20241202T123000
DTSTAMP:20260419T062458
CREATED:20240827T185231Z
LAST-MODIFIED:20240828T192016Z
UID:19352-1733133600-1733142600@www.communityactionskagit.org
SUMMARY:GED Fast Track Classes
DESCRIPTION:Enrollment for GED classes is ongoing. You can start any time. Initial Assessment for Placement\, Registration\, and Orientation will take place by appointment. Call (360) 588-5730 or (360) 588-5734 or email Education@CommunityActionSkagit.org to get enrolled or for any GED related questions.
URL:https://www.communityactionskagit.org/event/ged-classes/2024-12-02/
END:VEVENT
BEGIN:VEVENT
DTSTART;TZID=America/Los_Angeles:20241202T151500
DTEND;TZID=America/Los_Angeles:20241202T170000
DTSTAMP:20260419T062458
CREATED:20240827T211429Z
LAST-MODIFIED:20240827T211919Z
UID:19537-1733152500-1733158800@www.communityactionskagit.org
SUMMARY:Life Skills Classes
DESCRIPTION:Every week in this 12 week course\, participants gain information on: problem solving\, effective communication\, adapting to change\, stress management\, goal setting\, budgeting and banking\, credit reports and scores\, and more! Pre-registration is required. For more information or to sign up call (360) 826-0807 or email Jobs@CommunityActionSkagit.org.
URL:https://www.communityactionskagit.org/event/life-skills-classes-2024-09-09/2024-12-02/
END:VEVENT
BEGIN:VEVENT
DTSTART;TZID=America/Los_Angeles:20241203T100000
DTEND;TZID=America/Los_Angeles:20241203T123000
DTSTAMP:20260419T062458
CREATED:20240827T185231Z
LAST-MODIFIED:20240828T192016Z
UID:19353-1733220000-1733229000@www.communityactionskagit.org
SUMMARY:GED Fast Track Classes
DESCRIPTION:Enrollment for GED classes is ongoing. You can start any time. Initial Assessment for Placement\, Registration\, and Orientation will take place by appointment. Call (360) 588-5730 or (360) 588-5734 or email Education@CommunityActionSkagit.org to get enrolled or for any GED related questions.
URL:https://www.communityactionskagit.org/event/ged-classes/2024-12-03/
END:VEVENT
BEGIN:VEVENT
DTSTART;TZID=America/Los_Angeles:20241203T150000
DTEND;TZID=America/Los_Angeles:20241203T163000
DTSTAMP:20260419T062458
CREATED:20241121T233111Z
LAST-MODIFIED:20241121T233111Z
UID:21195-1733238000-1733243400@www.communityactionskagit.org
SUMMARY:Monthly Skagit Volunteer Coordinators Network Meeting
DESCRIPTION:Are you a volunteer manager at a nonprofit\, school or government agency? Or maybe you’re a volunteer who coordinates OTHER volunteers at a church\, service club or community group? You’re invited to the Skagit Volunteer Coordinators Network! \nWhy get involved in the Skagit Volunteer Coordinators Network? \n\nPeer learning: Get tips and build your professional network of diverse volunteer coordinators across sectors — education\, social services\, emergency management\, food security\, environmental\, arts organizations and more. Come with your questions\, ask for help problem-solving\, and share your experience and resources with others!\n2024 Skagit Volunteer Month & Volunteer Fair: Help plan projects that promote volunteerism countywide and celebrate our volunteers. NEW in 2024\, a joint project with Leadership Skagit and the Skagit Community Foundation: Skagit Volunteer & Board Service Fair slated for April.\nFREE volunteer recruitment resources\, via www.SkagitVolunteerCenter.org\, and our monthly volunteer newsletter that reaches over 2\,000 individuals\, churches and businesses.\n\n2024 Schedule & Volunteer Management Topics: These topics were suggested by 2023 network members. To accommodate volunteer coordinators who live in more rural and isolated areas\, meetings in 2024 will alternate between in person and via Zoom. In-person meeting location will alternate between Network members who would like to host their colleagues. \n2024 Meeting Dates & Topics! Please contact SkagitVolunteerCenter@CommunityActionSkagit.org to get on our email list for call details and meeting locations! \n\nJanuary 2 (via Zoom): Volunteer needs assessment and program planning.\nFebruary 6 (in person meeting): Writing TARGETED position descriptions and recruitment messages.\nMarch 5 (via Zoom): Outside-the-box TARGETED volunteer recruitment strategies.\nApril 2 (in person TBD): Turning “traditional” volunteer positions into internships and project-based opportunities.\nSkagit Volunteer Month Proclamation\, 11:45 a.m.-12:45 p.m.\, Tuesday\, April 9\, Skagit County Commissioners Chambers and via Zoom\nSkagit Volunteer & Board Service Fair\, Friday\, April 12 (time and location TBD)\, in collaboration with Leadership Skagit and Skagit Community Foundation\nMay 7 (via Zoom): Effective on-boarding\, orientation and training.\nJune 4 (in person TBD): Working with “spicy” volunteers (and how to say goodbye).\nJuly 2 (via Zoom): Meaningful volunteer recognition.\nOctober 1 (in-person TBD): Volunteer program evaluation.\nNovember 5 (via Zoom): Volunteer management tech and data management.\nDecember 3 (in person TBD): How to delegate\, train and support OTHER volunteer supervisors/coworkers.
URL:https://www.communityactionskagit.org/event/monthly-skagit-volunteer-coordinators-network-meeting-2/
END:VEVENT
BEGIN:VEVENT
DTSTART;TZID=America/Los_Angeles:20241203T151500
DTEND;TZID=America/Los_Angeles:20241203T170000
DTSTAMP:20260419T062458
CREATED:20240828T161128Z
LAST-MODIFIED:20240828T181736Z
UID:19621-1733238900-1733245200@www.communityactionskagit.org
SUMMARY:Work Pathways
DESCRIPTION:Every week\, participants gain information on: future planning\, time management\, goal setting\, job hunting\, applications\, resumes\, cover letters\, interviewing tips\, and how to succeed in the workplace. Pre-registration is required. Call (360) 826-0807 or email Jobs@CommunityActionSkagit.org.
URL:https://www.communityactionskagit.org/event/work-pathways-2/2024-12-03/
END:VEVENT
BEGIN:VEVENT
DTSTART;TZID=America/Los_Angeles:20241204T100000
DTEND;TZID=America/Los_Angeles:20241204T123000
DTSTAMP:20260419T062458
CREATED:20240827T185231Z
LAST-MODIFIED:20240828T192018Z
UID:19354-1733306400-1733315400@www.communityactionskagit.org
SUMMARY:GED Fast Track Classes
DESCRIPTION:Enrollment for GED classes is ongoing. You can start any time. Initial Assessment for Placement\, Registration\, and Orientation will take place by appointment. Call (360) 588-5730 or (360) 588-5734 or email Education@CommunityActionSkagit.org to get enrolled or for any GED related questions.
URL:https://www.communityactionskagit.org/event/ged-classes/2024-12-04/
END:VEVENT
BEGIN:VEVENT
DTSTART;TZID=America/Los_Angeles:20241204T173000
DTEND;TZID=America/Los_Angeles:20241204T193000
DTSTAMP:20260419T062458
CREATED:20241015T161925Z
LAST-MODIFIED:20241015T162602Z
UID:21012-1733333400-1733340600@www.communityactionskagit.org
SUMMARY:FLARE In-Person Orientation
DESCRIPTION:Meeting info will be sent out separately.
URL:https://www.communityactionskagit.org/event/flare-in-person-orientation/
CATEGORIES:FLARE
END:VEVENT
BEGIN:VEVENT
DTSTART;TZID=America/Los_Angeles:20241205T100000
DTEND;TZID=America/Los_Angeles:20241205T123000
DTSTAMP:20260419T062458
CREATED:20240827T185231Z
LAST-MODIFIED:20240828T192018Z
UID:19355-1733392800-1733401800@www.communityactionskagit.org
SUMMARY:GED Fast Track Classes
DESCRIPTION:Enrollment for GED classes is ongoing. You can start any time. Initial Assessment for Placement\, Registration\, and Orientation will take place by appointment. Call (360) 588-5730 or (360) 588-5734 or email Education@CommunityActionSkagit.org to get enrolled or for any GED related questions.
URL:https://www.communityactionskagit.org/event/ged-classes/2024-12-05/
END:VEVENT
BEGIN:VEVENT
DTSTART;TZID=America/Los_Angeles:20241209T100000
DTEND;TZID=America/Los_Angeles:20241209T123000
DTSTAMP:20260419T062458
CREATED:20240827T185231Z
LAST-MODIFIED:20240828T192018Z
UID:19356-1733738400-1733747400@www.communityactionskagit.org
SUMMARY:GED Fast Track Classes
DESCRIPTION:Enrollment for GED classes is ongoing. You can start any time. Initial Assessment for Placement\, Registration\, and Orientation will take place by appointment. Call (360) 588-5730 or (360) 588-5734 or email Education@CommunityActionSkagit.org to get enrolled or for any GED related questions.
URL:https://www.communityactionskagit.org/event/ged-classes/2024-12-09/
END:VEVENT
BEGIN:VEVENT
DTSTART;TZID=America/Los_Angeles:20241209T151500
DTEND;TZID=America/Los_Angeles:20241209T170000
DTSTAMP:20260419T062458
CREATED:20240827T211429Z
LAST-MODIFIED:20240827T211919Z
UID:19538-1733757300-1733763600@www.communityactionskagit.org
SUMMARY:Life Skills Classes
DESCRIPTION:Every week in this 12 week course\, participants gain information on: problem solving\, effective communication\, adapting to change\, stress management\, goal setting\, budgeting and banking\, credit reports and scores\, and more! Pre-registration is required. For more information or to sign up call (360) 826-0807 or email Jobs@CommunityActionSkagit.org.
URL:https://www.communityactionskagit.org/event/life-skills-classes-2024-09-09/2024-12-09/
END:VEVENT
BEGIN:VEVENT
DTSTART;TZID=America/Los_Angeles:20241210T100000
DTEND;TZID=America/Los_Angeles:20241210T123000
DTSTAMP:20260419T062458
CREATED:20240827T185231Z
LAST-MODIFIED:20240828T192019Z
UID:19357-1733824800-1733833800@www.communityactionskagit.org
SUMMARY:GED Fast Track Classes
DESCRIPTION:Enrollment for GED classes is ongoing. You can start any time. Initial Assessment for Placement\, Registration\, and Orientation will take place by appointment. Call (360) 588-5730 or (360) 588-5734 or email Education@CommunityActionSkagit.org to get enrolled or for any GED related questions.
URL:https://www.communityactionskagit.org/event/ged-classes/2024-12-10/
END:VEVENT
BEGIN:VEVENT
DTSTART;TZID=America/Los_Angeles:20241210T151500
DTEND;TZID=America/Los_Angeles:20241210T170000
DTSTAMP:20260419T062458
CREATED:20240828T161128Z
LAST-MODIFIED:20240828T181736Z
UID:19622-1733843700-1733850000@www.communityactionskagit.org
SUMMARY:Work Pathways
DESCRIPTION:Every week\, participants gain information on: future planning\, time management\, goal setting\, job hunting\, applications\, resumes\, cover letters\, interviewing tips\, and how to succeed in the workplace. Pre-registration is required. Call (360) 826-0807 or email Jobs@CommunityActionSkagit.org.
URL:https://www.communityactionskagit.org/event/work-pathways-2/2024-12-10/
END:VEVENT
BEGIN:VEVENT
DTSTART;TZID=America/Los_Angeles:20241211T100000
DTEND;TZID=America/Los_Angeles:20241211T123000
DTSTAMP:20260419T062458
CREATED:20240827T185231Z
LAST-MODIFIED:20240828T192019Z
UID:19358-1733911200-1733920200@www.communityactionskagit.org
SUMMARY:GED Fast Track Classes
DESCRIPTION:Enrollment for GED classes is ongoing. You can start any time. Initial Assessment for Placement\, Registration\, and Orientation will take place by appointment. Call (360) 588-5730 or (360) 588-5734 or email Education@CommunityActionSkagit.org to get enrolled or for any GED related questions.
URL:https://www.communityactionskagit.org/event/ged-classes/2024-12-11/
END:VEVENT
BEGIN:VEVENT
DTSTART;TZID=America/Los_Angeles:20241211T113000
DTEND;TZID=America/Los_Angeles:20241211T130000
DTSTAMP:20260419T062458
CREATED:20241126T232959Z
LAST-MODIFIED:20241126T233012Z
UID:21201-1733916600-1733922000@www.communityactionskagit.org
SUMMARY:Mount Vernon Chamber- Biz Buzz Networking Luncheon
DESCRIPTION:Chamber of Commerce Luncheons are designed to offer members both an informative experience along with the opportunity to network with fellow Chamber members. \nPlease join us at our monthly luncheon\nNon-member Membership Pricing Policy\nNon-members are allowed to visit up to two times at the standard member rate.\nAfter that\, a regular membership luncheon will be $50 per meeting\,\nA Biz-Buzz Networking Luncheon will be $100 per meeting.\nNo limit to the number of times one can attend at the non-member rate.
URL:https://www.communityactionskagit.org/event/mount-vernon-chamber-biz-buzz-networking-luncheon/
END:VEVENT
BEGIN:VEVENT
DTSTART;TZID=America/Los_Angeles:20241211T173000
DTEND;TZID=America/Los_Angeles:20241211T193000
DTSTAMP:20260419T062458
CREATED:20241015T162046Z
LAST-MODIFIED:20241015T162046Z
UID:21014-1733938200-1733945400@www.communityactionskagit.org
SUMMARY:FLARE Cohort #1 via Zoom
DESCRIPTION:Zoom link will be sent out separately.
URL:https://www.communityactionskagit.org/event/flare-cohort-1-via-zoom/2024-12-11/
CATEGORIES:FLARE
END:VEVENT
BEGIN:VEVENT
DTSTART;TZID=America/Los_Angeles:20241212T100000
DTEND;TZID=America/Los_Angeles:20241212T123000
DTSTAMP:20260419T062458
CREATED:20240827T185231Z
LAST-MODIFIED:20240828T192019Z
UID:19359-1733997600-1734006600@www.communityactionskagit.org
SUMMARY:GED Fast Track Classes
DESCRIPTION:Enrollment for GED classes is ongoing. You can start any time. Initial Assessment for Placement\, Registration\, and Orientation will take place by appointment. Call (360) 588-5730 or (360) 588-5734 or email Education@CommunityActionSkagit.org to get enrolled or for any GED related questions.
URL:https://www.communityactionskagit.org/event/ged-classes/2024-12-12/
END:VEVENT
BEGIN:VEVENT
DTSTART;TZID=America/Los_Angeles:20241216T100000
DTEND;TZID=America/Los_Angeles:20241216T123000
DTSTAMP:20260419T062458
CREATED:20240827T185231Z
LAST-MODIFIED:20240828T192019Z
UID:19360-1734343200-1734352200@www.communityactionskagit.org
SUMMARY:GED Fast Track Classes
DESCRIPTION:Enrollment for GED classes is ongoing. You can start any time. Initial Assessment for Placement\, Registration\, and Orientation will take place by appointment. Call (360) 588-5730 or (360) 588-5734 or email Education@CommunityActionSkagit.org to get enrolled or for any GED related questions.
URL:https://www.communityactionskagit.org/event/ged-classes/2024-12-16/
END:VEVENT
BEGIN:VEVENT
DTSTART;TZID=America/Los_Angeles:20241216T151500
DTEND;TZID=America/Los_Angeles:20241216T170000
DTSTAMP:20260419T062458
CREATED:20240827T211429Z
LAST-MODIFIED:20240827T211919Z
UID:19539-1734362100-1734368400@www.communityactionskagit.org
SUMMARY:Life Skills Classes
DESCRIPTION:Every week in this 12 week course\, participants gain information on: problem solving\, effective communication\, adapting to change\, stress management\, goal setting\, budgeting and banking\, credit reports and scores\, and more! Pre-registration is required. For more information or to sign up call (360) 826-0807 or email Jobs@CommunityActionSkagit.org.
URL:https://www.communityactionskagit.org/event/life-skills-classes-2024-09-09/2024-12-16/
END:VEVENT
BEGIN:VEVENT
DTSTART;TZID=America/Los_Angeles:20241217T100000
DTEND;TZID=America/Los_Angeles:20241217T123000
DTSTAMP:20260419T062458
CREATED:20240827T185231Z
LAST-MODIFIED:20240828T192019Z
UID:19361-1734429600-1734438600@www.communityactionskagit.org
SUMMARY:GED Fast Track Classes
DESCRIPTION:Enrollment for GED classes is ongoing. You can start any time. Initial Assessment for Placement\, Registration\, and Orientation will take place by appointment. Call (360) 588-5730 or (360) 588-5734 or email Education@CommunityActionSkagit.org to get enrolled or for any GED related questions.
URL:https://www.communityactionskagit.org/event/ged-classes/2024-12-17/
END:VEVENT
BEGIN:VEVENT
DTSTART;TZID=America/Los_Angeles:20241217T151500
DTEND;TZID=America/Los_Angeles:20241217T170000
DTSTAMP:20260419T062458
CREATED:20240828T161128Z
LAST-MODIFIED:20240828T181736Z
UID:19623-1734448500-1734454800@www.communityactionskagit.org
SUMMARY:Work Pathways
DESCRIPTION:Every week\, participants gain information on: future planning\, time management\, goal setting\, job hunting\, applications\, resumes\, cover letters\, interviewing tips\, and how to succeed in the workplace. Pre-registration is required. Call (360) 826-0807 or email Jobs@CommunityActionSkagit.org.
URL:https://www.communityactionskagit.org/event/work-pathways-2/2024-12-17/
END:VEVENT
BEGIN:VEVENT
DTSTART;TZID=America/Los_Angeles:20241218T100000
DTEND;TZID=America/Los_Angeles:20241218T123000
DTSTAMP:20260419T062458
CREATED:20240827T185231Z
LAST-MODIFIED:20240828T192019Z
UID:19362-1734516000-1734525000@www.communityactionskagit.org
SUMMARY:GED Fast Track Classes
DESCRIPTION:Enrollment for GED classes is ongoing. You can start any time. Initial Assessment for Placement\, Registration\, and Orientation will take place by appointment. Call (360) 588-5730 or (360) 588-5734 or email Education@CommunityActionSkagit.org to get enrolled or for any GED related questions.
URL:https://www.communityactionskagit.org/event/ged-classes/2024-12-18/
END:VEVENT
BEGIN:VEVENT
DTSTART;TZID=America/Los_Angeles:20241218T173000
DTEND;TZID=America/Los_Angeles:20241218T193000
DTSTAMP:20260419T062458
CREATED:20241015T162046Z
LAST-MODIFIED:20241015T162046Z
UID:21015-1734543000-1734550200@www.communityactionskagit.org
SUMMARY:FLARE Cohort #1 via Zoom
DESCRIPTION:Zoom link will be sent out separately.
URL:https://www.communityactionskagit.org/event/flare-cohort-1-via-zoom/2024-12-18/
CATEGORIES:FLARE
END:VEVENT
BEGIN:VEVENT
DTSTART;TZID=America/Los_Angeles:20241219T100000
DTEND;TZID=America/Los_Angeles:20241219T123000
DTSTAMP:20260419T062458
CREATED:20240827T185231Z
LAST-MODIFIED:20240828T192020Z
UID:19363-1734602400-1734611400@www.communityactionskagit.org
SUMMARY:GED Fast Track Classes
DESCRIPTION:Enrollment for GED classes is ongoing. You can start any time. Initial Assessment for Placement\, Registration\, and Orientation will take place by appointment. Call (360) 588-5730 or (360) 588-5734 or email Education@CommunityActionSkagit.org to get enrolled or for any GED related questions.
URL:https://www.communityactionskagit.org/event/ged-classes/2024-12-19/
END:VEVENT
BEGIN:VEVENT
DTSTART;TZID=America/Los_Angeles:20241220T090000
DTEND;TZID=America/Los_Angeles:20241220T170000
DTSTAMP:20260419T062458
CREATED:20241212T210602Z
LAST-MODIFIED:20241212T210602Z
UID:21276-1734685200-1734714000@www.communityactionskagit.org
SUMMARY:Warm Hearts Bake Sale
DESCRIPTION:
URL:https://www.communityactionskagit.org/event/warm-hearts-bake-sale/
LOCATION:Umpqua Bank Burlington Branch\, 723 Haggen Dr\, Burlington\, WA\, 98233
END:VEVENT
BEGIN:VEVENT
DTSTART;TZID=America/Los_Angeles:20241221T170000
DTEND;TZID=America/Los_Angeles:20241221T180000
DTSTAMP:20260419T062458
CREATED:20241218T171838Z
LAST-MODIFIED:20241218T171838Z
UID:21317-1734800400-1734804000@www.communityactionskagit.org
SUMMARY:Longest Night of the Year Memorial
DESCRIPTION:Join us this Saturday on the longest night of the year to honor and celebrate the lives of those who have lost their lives living on the street. Radius Church Outreach will be providing hot cocoa and coffee to keep us warm and energized! This event will happen rain\, shine\, or snow. \n \n 
URL:https://www.communityactionskagit.org/event/longest-night-of-the-year-memorial/
LOCATION:Skagit Riverwalk Park in downtown Mount Vernon\, 735 Mt Vernon Terminal Railroad\, Mount Vernon\, 98273
END:VEVENT
BEGIN:VEVENT
DTSTART;TZID=America/Los_Angeles:20241223T151500
DTEND;TZID=America/Los_Angeles:20241223T170000
DTSTAMP:20260419T062458
CREATED:20240827T211429Z
LAST-MODIFIED:20240827T211919Z
UID:19540-1734966900-1734973200@www.communityactionskagit.org
SUMMARY:Life Skills Classes
DESCRIPTION:Every week in this 12 week course\, participants gain information on: problem solving\, effective communication\, adapting to change\, stress management\, goal setting\, budgeting and banking\, credit reports and scores\, and more! Pre-registration is required. For more information or to sign up call (360) 826-0807 or email Jobs@CommunityActionSkagit.org.
URL:https://www.communityactionskagit.org/event/life-skills-classes-2024-09-09/2024-12-23/
END:VEVENT
BEGIN:VEVENT
DTSTART;VALUE=DATE:20241224
DTEND;VALUE=DATE:20241226
DTSTAMP:20260419T062458
CREATED:20231219T195837Z
LAST-MODIFIED:20240828T161651Z
UID:16899-1734998400-1735171199@www.communityactionskagit.org
SUMMARY:Agency Closure
DESCRIPTION:
URL:https://www.communityactionskagit.org/event/agency-closure-christmas/
END:VEVENT
BEGIN:VEVENT
DTSTART;TZID=America/Los_Angeles:20241230T100000
DTEND;TZID=America/Los_Angeles:20241230T123000
DTSTAMP:20260419T062458
CREATED:20240827T185231Z
LAST-MODIFIED:20240828T192022Z
UID:19368-1735552800-1735561800@www.communityactionskagit.org
SUMMARY:GED Fast Track Classes
DESCRIPTION:Enrollment for GED classes is ongoing. You can start any time. Initial Assessment for Placement\, Registration\, and Orientation will take place by appointment. Call (360) 588-5730 or (360) 588-5734 or email Education@CommunityActionSkagit.org to get enrolled or for any GED related questions.
URL:https://www.communityactionskagit.org/event/ged-classes/2024-12-30/
END:VEVENT
BEGIN:VEVENT
DTSTART;TZID=America/Los_Angeles:20241230T151500
DTEND;TZID=America/Los_Angeles:20241230T170000
DTSTAMP:20260419T062458
CREATED:20240827T211429Z
LAST-MODIFIED:20240827T211919Z
UID:19541-1735571700-1735578000@www.communityactionskagit.org
SUMMARY:Life Skills Classes
DESCRIPTION:Every week in this 12 week course\, participants gain information on: problem solving\, effective communication\, adapting to change\, stress management\, goal setting\, budgeting and banking\, credit reports and scores\, and more! Pre-registration is required. For more information or to sign up call (360) 826-0807 or email Jobs@CommunityActionSkagit.org.
URL:https://www.communityactionskagit.org/event/life-skills-classes-2024-09-09/2024-12-30/
END:VEVENT
BEGIN:VEVENT
DTSTART;TZID=America/Los_Angeles:20241231T100000
DTEND;TZID=America/Los_Angeles:20241231T123000
DTSTAMP:20260419T062458
CREATED:20240827T185231Z
LAST-MODIFIED:20240828T192022Z
UID:19369-1735639200-1735648200@www.communityactionskagit.org
SUMMARY:GED Fast Track Classes
DESCRIPTION:Enrollment for GED classes is ongoing. You can start any time. Initial Assessment for Placement\, Registration\, and Orientation will take place by appointment. Call (360) 588-5730 or (360) 588-5734 or email Education@CommunityActionSkagit.org to get enrolled or for any GED related questions.
URL:https://www.communityactionskagit.org/event/ged-classes/2024-12-31/
END:VEVENT
END:VCALENDAR