BEGIN:VCALENDAR
VERSION:2.0
PRODID:-//Community Action of Skagit County - ECPv6.10.2//NONSGML v1.0//EN
CALSCALE:GREGORIAN
METHOD:PUBLISH
X-ORIGINAL-URL:https://www.communityactionskagit.org
X-WR-CALDESC:Events for Community Action of Skagit County
REFRESH-INTERVAL;VALUE=DURATION:PT1H
X-Robots-Tag:noindex
X-PUBLISHED-TTL:PT1H
BEGIN:VTIMEZONE
TZID:America/Los_Angeles
BEGIN:DAYLIGHT
TZOFFSETFROM:-0800
TZOFFSETTO:-0700
TZNAME:PDT
DTSTART:20190310T100000
END:DAYLIGHT
BEGIN:STANDARD
TZOFFSETFROM:-0700
TZOFFSETTO:-0800
TZNAME:PST
DTSTART:20191103T090000
END:STANDARD
BEGIN:DAYLIGHT
TZOFFSETFROM:-0800
TZOFFSETTO:-0700
TZNAME:PDT
DTSTART:20200308T100000
END:DAYLIGHT
BEGIN:STANDARD
TZOFFSETFROM:-0700
TZOFFSETTO:-0800
TZNAME:PST
DTSTART:20201101T090000
END:STANDARD
BEGIN:DAYLIGHT
TZOFFSETFROM:-0800
TZOFFSETTO:-0700
TZNAME:PDT
DTSTART:20210314T100000
END:DAYLIGHT
BEGIN:STANDARD
TZOFFSETFROM:-0700
TZOFFSETTO:-0800
TZNAME:PST
DTSTART:20211107T090000
END:STANDARD
BEGIN:DAYLIGHT
TZOFFSETFROM:-0800
TZOFFSETTO:-0700
TZNAME:PDT
DTSTART:20220313T100000
END:DAYLIGHT
BEGIN:STANDARD
TZOFFSETFROM:-0700
TZOFFSETTO:-0800
TZNAME:PST
DTSTART:20221106T090000
END:STANDARD
BEGIN:DAYLIGHT
TZOFFSETFROM:-0800
TZOFFSETTO:-0700
TZNAME:PDT
DTSTART:20230312T100000
END:DAYLIGHT
BEGIN:STANDARD
TZOFFSETFROM:-0700
TZOFFSETTO:-0800
TZNAME:PST
DTSTART:20231105T090000
END:STANDARD
BEGIN:DAYLIGHT
TZOFFSETFROM:-0800
TZOFFSETTO:-0700
TZNAME:PDT
DTSTART:20240310T100000
END:DAYLIGHT
BEGIN:STANDARD
TZOFFSETFROM:-0700
TZOFFSETTO:-0800
TZNAME:PST
DTSTART:20241103T090000
END:STANDARD
BEGIN:DAYLIGHT
TZOFFSETFROM:-0800
TZOFFSETTO:-0700
TZNAME:PDT
DTSTART:20250309T100000
END:DAYLIGHT
BEGIN:STANDARD
TZOFFSETFROM:-0700
TZOFFSETTO:-0800
TZNAME:PST
DTSTART:20251102T090000
END:STANDARD
END:VTIMEZONE
BEGIN:VEVENT
DTSTART;VALUE=DATE:20251211
DTEND;VALUE=DATE:20251213
DTSTAMP:20260421T063835
CREATED:20251212T012642Z
LAST-MODIFIED:20251216T181255Z
UID:24355-1765411200-1765583999@www.communityactionskagit.org
SUMMARY:Agency Closure
DESCRIPTION:Community Action will be closed due to weather conditions. For more information\, please visit Flood Response – Community Action of Skagit County Thank you.
URL:https://www.communityactionskagit.org/event/agency-closure-13/
LOCATION:Anacortes Resource Center\, 819 Commercial Avenue Suite C ﻿\, Anacortes\, WA\, 98221\, United States
END:VEVENT
BEGIN:VEVENT
DTSTART;TZID=America/Los_Angeles:20231111T100000
DTEND;TZID=America/Los_Angeles:20231111T120000
DTSTAMP:20260421T063835
CREATED:20231108T002826Z
LAST-MODIFIED:20231108T002826Z
UID:15965-1699696800-1699704000@www.communityactionskagit.org
SUMMARY:Pop Up Event for the Unhoused Community
DESCRIPTION:
URL:https://www.communityactionskagit.org/event/pop-up-event-for-the-unhoused-community/
LOCATION:Community Action of Skagit County\, 330 Pacific Place\, Mount Vernon\, WA\, 98273\, United States
END:VEVENT
BEGIN:VEVENT
DTSTART;TZID=America/Los_Angeles:20230822T100000
DTEND;TZID=America/Los_Angeles:20230822T140000
DTSTAMP:20260421T063835
CREATED:20230731T172540Z
LAST-MODIFIED:20230731T172540Z
UID:11475-1692698400-1692712800@www.communityactionskagit.org
SUMMARY:Community Action Job & Volunteer Fair
DESCRIPTION:Description: Join Community Action for a casual\, fun event to learn about full- and part-time job opportunities\, internships\, and volunteer opportunities for individuals\, businesses\, churches and service organizations. Refreshments\, prizes\, children & pets welcome. Join our team working for housing & homelessness prevention\, hunger prevention\, and economic stability. Working together\, we can end poverty in Skagit County. For more info: www.communityactionskagit.org/about-us/employment/
URL:https://www.communityactionskagit.org/event/community-action-job-volunteer-fair/
LOCATION:Community Action of Skagit County\, 330 Pacific Place\, Mount Vernon\, WA\, 98273\, United States
END:VEVENT
BEGIN:VEVENT
DTSTART;TZID=America/Los_Angeles:20230608T170000
DTEND;TZID=America/Los_Angeles:20230608T183000
DTSTAMP:20260421T063835
CREATED:20230517T212620Z
LAST-MODIFIED:20230517T212620Z
UID:11187-1686243600-1686249000@www.communityactionskagit.org
SUMMARY:Mount Vernon Resource Center Open House
DESCRIPTION:Join Community Action of Skagit County and local Chambers of Commerce at the Mount Vernon Resource Center on June 8 from 5-6:30pm. \n\nLearn how we stabilize lives\, equip people to meet their goals\, and build a stronger\, more equitable Skagit County.\nTour the renovated Community Action offices and service delivery areas.\nEnjoy great food\, beverages and company.
URL:https://www.communityactionskagit.org/event/mount-vernon-resource-center-open-house/
LOCATION:Community Action of Skagit County\, 330 Pacific Place\, Mount Vernon\, WA\, 98273\, United States
CATEGORIES:Special Events
END:VEVENT
BEGIN:VEVENT
DTSTART;TZID=America/Los_Angeles:20230522T110000
DTEND;TZID=America/Los_Angeles:20230522T140000
DTSTAMP:20260421T063835
CREATED:20230503T185942Z
LAST-MODIFIED:20230503T185959Z
UID:11067-1684753200-1684764000@www.communityactionskagit.org
SUMMARY:Cricket Wireless Pop Up
DESCRIPTION:Cricket Wireless will be tabling in our lobby Monday (5/22) at 11am to assist clients with limited income sign up for the Affordable Connectivity Program to potentially receive a free phone or lower the cost of cellphone services. \nWhat is the Affordable Connectivity Program? The Affordable Connectivity Program (ACP) is a federal program that helps lower the monthly cost of broadband service for eligible households. Eligible households may get up to a $30 benefit on their eligible mobile broadband service. Eligible households who live on federally recognized Tribal Lands may get up to a $75 benefit on their eligible mobile broadband service. Only one benefit per household\, not per person\, is allowed\, and the benefit may only be applied to one broadband service\, regardless of service provider. \nClients may qualify if they meet one of the three (3) eligibility criteria: \nSomeone in the household participate in one of the following federal assistance programs: \n\nSupplemental Nutrition Assistance Program (SNAP)\, formerly known as Food Stamps\nMedicaid\nSupplemental Security Income (SSI)\nFederal Public Housing Assistance (FPHA)\nNational School Lunch Program\nFederal Pell Grant\nVeterans Pension and Survivors Benefit\nThe Special Supplemental Nutrition Program for Women\, Infants\, and Children (WIC)\nIf a household member lives on federally recognized Tribal Lands: Bureau of Indian Affairs general assistance; Tribally administered Temporary Assistance for Needy Families; Head Start (for those households meeting its income qualifying standard); or the Food Distribution Program on Indian Reservations\nIf their household income is at or below 200% of the Federal Poverty Guideline\nThey qualify for the Lifeline program
URL:https://www.communityactionskagit.org/event/11067/
LOCATION:Community Action of Skagit County\, 330 Pacific Place\, Mount Vernon\, WA\, 98273\, United States
END:VEVENT
BEGIN:VEVENT
DTSTART;TZID=America/Los_Angeles:20230327T110000
DTEND;TZID=America/Los_Angeles:20230327T140000
DTSTAMP:20260421T063835
CREATED:20230321T213138Z
LAST-MODIFIED:20230321T213138Z
UID:10845-1679914800-1679925600@www.communityactionskagit.org
SUMMARY:Cricket Wireless Event at Mount Vernon Lobby
DESCRIPTION:Cricket Wireless will be tabling in our lobby on Monday (3/27)from 11:00am-2:00pm to assist clients with limited income sign up for the Affordable Connectivity Program to potentially receive a free phone or lower the cost of cellphone services. \nWhat is the Affordable Connectivity Program? The Affordable Connectivity Program (ACP) is a federal program that helps lower the monthly cost of broadband service for eligible households. Eligible households may get up to a $30 benefit on their eligible mobile broadband service. Eligible households who live on federally recognized Tribal Lands may get up to a $75 benefit on their eligible mobile broadband service. Only one benefit per household\, not per person\, is allowed\, and the benefit may only be applied to one broadband service\, regardless of service provider. You may qualify if they meet one of the three (3) eligibility criteria: \n\nSomeone in the household participate in one of the following federal assistance programs:\nSupplemental Nutrition Assistance Program (SNAP)\, formerly known as Food Stamps\nMedicaid\nSupplemental Security Income (SSI)\nFederal Public Housing Assistance (FPHA)\nNational School Lunch Program\nFederal Pell Grant\nVeterans Pension and Survivors Benefit\nThe Special Supplemental Nutrition Program for Women\, Infants\, and Children (WIC)\nIf a household member lives on federally recognized Tribal Lands: Bureau of Indian Affairs general assistance; Tribally administered\nTemporary Assistance for Needy Families; Head Start (for those households meeting its income qualifying standard); or the Food\nDistribution Program on Indian Reservations\nIf your household income is at or below 200% of the Federal Poverty Guidelines\nYou qualify for the Lifeline program
URL:https://www.communityactionskagit.org/event/cricket-wireless-event-at-mount-vernon-lobby/
LOCATION:Community Action of Skagit County\, 330 Pacific Place\, Mount Vernon\, WA\, 98273\, United States
CATEGORIES:Special Events
END:VEVENT
BEGIN:VEVENT
DTSTART;TZID=America/Los_Angeles:20190918T140000
DTEND;TZID=America/Los_Angeles:20190918T170000
DTSTAMP:20260421T063835
CREATED:20190717T164418Z
LAST-MODIFIED:20200610T165807Z
UID:301-1568815200-1568826000@www.communityactionskagit.org
SUMMARY:Cancelled: Credit & Debt
DESCRIPTION:Credit & Debt Workshop Canceled \nCommunity Action is fulfilling our mission during COVID-19. We’ve made many changes to keep clients\, staff and community safe.\nCommunity Action contacts and service changes:\nWe are providing services\, but all in-person services have been suspended at all locations until further notice. Our East County Resource Center is remaining open with limited walk-up services. We have added remote services options. There are many new services available for the first time to people of low-to-moderate income. See here for more information about Community Action’s response or email Ryan with any questions about credit & debt.
URL:https://www.communityactionskagit.org/event/tackling-debt/
LOCATION:Community Action of Skagit County\, 330 Pacific Place\, Mount Vernon\, WA\, 98273\, United States
CATEGORIES:Financial Empowerment
ORGANIZER;CN="Ryan Davis":MAILTO:RyanD@CommunityActionSkagit.org
END:VEVENT
BEGIN:VEVENT
DTSTART;TZID=America/Los_Angeles:20190917T170000
DTEND;TZID=America/Los_Angeles:20190917T200000
DTSTAMP:20260421T063835
CREATED:20190722T172827Z
LAST-MODIFIED:20190909T210650Z
UID:363-1568739600-1568750400@www.communityactionskagit.org
SUMMARY:ELA Registration | Registracíon para clases de inglés
DESCRIPTION:Register for Fall English Language Acquisition Classes. Please plan to attend both September 17 & 18. \nRegistrarse para clases de inglés en el otoño. Por favor\, planea venir el 17 y 18 de septiembre. \nFirst day of class: September 23\, 2019 \nPrimer día de clase: 23 de septiembre de 2019. \nCall Erica to register | Para registrarse\, lama Erica  – 360-588-5735 \n 
URL:https://www.communityactionskagit.org/event/ela-registration/
LOCATION:Community Action of Skagit County\, 330 Pacific Place\, Mount Vernon\, WA\, 98273\, United States
CATEGORIES:Adult Education
ORGANIZER;CN="Erica Soto":MAILTO:EricaS@CommunityActionSkagit.org
END:VEVENT
BEGIN:VEVENT
DTSTART;TZID=America/Los_Angeles:20190910T150000
DTEND;TZID=America/Los_Angeles:20190910T170000
DTSTAMP:20260421T063835
CREATED:20190722T221059Z
LAST-MODIFIED:20200610T183728Z
UID:388-1568127600-1568134800@www.communityactionskagit.org
SUMMARY:Cancelled: Work Pathways
DESCRIPTION:Work Pathways Workshop Canceled \nCommunity Action is fulfilling our mission during COVID-19. We’ve made many changes to keep clients\, staff and community safe.\nCommunity Action contacts and service changes:\nWe are providing services\, but all in-person services have been suspended at all locations until further notice. Our East County Resource Center is remaining open with limited walk-up services. We have added remote services options. There are many new services available for the first time to people of low-to-moderate income. See here for more information about Community Action’s response or email Megan with any questions about job skills training.
URL:https://www.communityactionskagit.org/event/work-pathways/2019-09-10/
LOCATION:Community Action of Skagit County\, 330 Pacific Place\, Mount Vernon\, WA\, 98273\, United States
CATEGORIES:Employment
ORGANIZER;CN="Ryan Davis":MAILTO:RyanD@CommunityActionSkagit.org
END:VEVENT
BEGIN:VEVENT
DTSTART;TZID=America/Los_Angeles:20190903T150000
DTEND;TZID=America/Los_Angeles:20190903T170000
DTSTAMP:20260421T063835
CREATED:20190718T202802Z
LAST-MODIFIED:20200610T170216Z
UID:337-1567522800-1567530000@www.communityactionskagit.org
SUMMARY:Canceled: Personal Budgeting
DESCRIPTION:Personal Budgeting \nRegister\nPersonal Budgeting Workshop Canceled \nCommunity Action is fulfilling our mission during COVID-19. We’ve made many changes to keep clients\, staff and community safe.\nCommunity Action contacts and service changes:\nWe are providing services\, but all in-person services have been suspended at all locations until further notice. Our East County Resource Center is remaining open with limited walk-up services. We have added remote services options. There are many new services available for the first time to people of low-to-moderate income. See here for more information about Community Action’s response or email Ryan with any questions about budgeting.
URL:https://www.communityactionskagit.org/event/personal-budgeting-3/2019-09-03/
LOCATION:Community Action of Skagit County\, 330 Pacific Place\, Mount Vernon\, WA\, 98273\, United States
CATEGORIES:Employment,Financial Empowerment
ORGANIZER;CN="Ryan Davis":MAILTO:RyanD@CommunityActionSkagit.org
END:VEVENT
END:VCALENDAR